BEGIN:VCALENDAR
VERSION:2.0
PRODID:-//Crossgates - ECPv6.15.20//NONSGML v1.0//EN
CALSCALE:GREGORIAN
METHOD:PUBLISH
X-WR-CALNAME:Crossgates
X-ORIGINAL-URL:https://crossgatesgolf.com
X-WR-CALDESC:Events for Crossgates
REFRESH-INTERVAL;VALUE=DURATION:PT1H
X-Robots-Tag:noindex
X-PUBLISHED-TTL:PT1H
BEGIN:VTIMEZONE
TZID:America/Toronto
BEGIN:DAYLIGHT
TZOFFSETFROM:-0500
TZOFFSETTO:-0400
TZNAME:EDT
DTSTART:20260308T070000
END:DAYLIGHT
BEGIN:STANDARD
TZOFFSETFROM:-0400
TZOFFSETTO:-0500
TZNAME:EST
DTSTART:20261101T060000
END:STANDARD
BEGIN:DAYLIGHT
TZOFFSETFROM:-0500
TZOFFSETTO:-0400
TZNAME:EDT
DTSTART:20270314T070000
END:DAYLIGHT
BEGIN:STANDARD
TZOFFSETFROM:-0400
TZOFFSETTO:-0500
TZNAME:EST
DTSTART:20271107T060000
END:STANDARD
BEGIN:DAYLIGHT
TZOFFSETFROM:-0500
TZOFFSETTO:-0400
TZNAME:EDT
DTSTART:20280312T070000
END:DAYLIGHT
BEGIN:STANDARD
TZOFFSETFROM:-0400
TZOFFSETTO:-0500
TZNAME:EST
DTSTART:20281105T060000
END:STANDARD
END:VTIMEZONE
BEGIN:VEVENT
DTSTART;TZID=America/Toronto:20270506T150000
DTEND;TZID=America/Toronto:20270506T170000
DTSTAMP:20260420T035212
CREATED:20250417T133929Z
LAST-MODIFIED:20250417T133929Z
UID:10001152-1809615600-1809622800@crossgatesgolf.com
SUMMARY:$30 Thursdays
DESCRIPTION:
URL:https://crossgatesgolf.com/event/30-thursdays/2027-05-06/
END:VEVENT
BEGIN:VEVENT
DTSTART;TZID=America/Toronto:20270506T173000
DTEND;TZID=America/Toronto:20270506T173000
DTSTAMP:20260420T035212
CREATED:20250417T133403Z
LAST-MODIFIED:20250417T133859Z
UID:10000891-1809624600-1809624600@crossgatesgolf.com
SUMMARY:Thursday Night League
DESCRIPTION:
URL:https://crossgatesgolf.com/event/thursday-night-league/2027-05-06/
END:VEVENT
BEGIN:VEVENT
DTSTART;VALUE=DATE:20270510
DTEND;VALUE=DATE:20270511
DTSTAMP:20260420T035212
CREATED:20250417T133218Z
LAST-MODIFIED:20250417T133218Z
UID:10000111-1809907200-1809993599@crossgatesgolf.com
SUMMARY:Monday Night League
DESCRIPTION:
URL:https://crossgatesgolf.com/event/monday-night-league/2027-05-10/
END:VEVENT
BEGIN:VEVENT
DTSTART;TZID=America/Toronto:20270513T150000
DTEND;TZID=America/Toronto:20270513T170000
DTSTAMP:20260420T035212
CREATED:20250417T133929Z
LAST-MODIFIED:20250417T133929Z
UID:10001153-1810220400-1810227600@crossgatesgolf.com
SUMMARY:$30 Thursdays
DESCRIPTION:
URL:https://crossgatesgolf.com/event/30-thursdays/2027-05-13/
END:VEVENT
BEGIN:VEVENT
DTSTART;TZID=America/Toronto:20270513T173000
DTEND;TZID=America/Toronto:20270513T173000
DTSTAMP:20260420T035212
CREATED:20250417T133403Z
LAST-MODIFIED:20250417T133859Z
UID:10000892-1810229400-1810229400@crossgatesgolf.com
SUMMARY:Thursday Night League
DESCRIPTION:
URL:https://crossgatesgolf.com/event/thursday-night-league/2027-05-13/
END:VEVENT
BEGIN:VEVENT
DTSTART;VALUE=DATE:20270517
DTEND;VALUE=DATE:20270518
DTSTAMP:20260420T035212
CREATED:20250417T133218Z
LAST-MODIFIED:20250417T133218Z
UID:10000112-1810512000-1810598399@crossgatesgolf.com
SUMMARY:Monday Night League
DESCRIPTION:
URL:https://crossgatesgolf.com/event/monday-night-league/2027-05-17/
END:VEVENT
BEGIN:VEVENT
DTSTART;TZID=America/Toronto:20270520T150000
DTEND;TZID=America/Toronto:20270520T170000
DTSTAMP:20260420T035212
CREATED:20250417T133929Z
LAST-MODIFIED:20250417T133929Z
UID:10001154-1810825200-1810832400@crossgatesgolf.com
SUMMARY:$30 Thursdays
DESCRIPTION:
URL:https://crossgatesgolf.com/event/30-thursdays/2027-05-20/
END:VEVENT
BEGIN:VEVENT
DTSTART;TZID=America/Toronto:20270520T173000
DTEND;TZID=America/Toronto:20270520T173000
DTSTAMP:20260420T035212
CREATED:20250417T133403Z
LAST-MODIFIED:20250417T133859Z
UID:10000893-1810834200-1810834200@crossgatesgolf.com
SUMMARY:Thursday Night League
DESCRIPTION:
URL:https://crossgatesgolf.com/event/thursday-night-league/2027-05-20/
END:VEVENT
BEGIN:VEVENT
DTSTART;VALUE=DATE:20270524
DTEND;VALUE=DATE:20270525
DTSTAMP:20260420T035212
CREATED:20250417T133218Z
LAST-MODIFIED:20250417T133218Z
UID:10000113-1811116800-1811203199@crossgatesgolf.com
SUMMARY:Monday Night League
DESCRIPTION:
URL:https://crossgatesgolf.com/event/monday-night-league/2027-05-24/
END:VEVENT
BEGIN:VEVENT
DTSTART;TZID=America/Toronto:20270527T150000
DTEND;TZID=America/Toronto:20270527T170000
DTSTAMP:20260420T035212
CREATED:20250417T133929Z
LAST-MODIFIED:20250417T133929Z
UID:10001155-1811430000-1811437200@crossgatesgolf.com
SUMMARY:$30 Thursdays
DESCRIPTION:
URL:https://crossgatesgolf.com/event/30-thursdays/2027-05-27/
END:VEVENT
BEGIN:VEVENT
DTSTART;TZID=America/Toronto:20270527T173000
DTEND;TZID=America/Toronto:20270527T173000
DTSTAMP:20260420T035212
CREATED:20250417T133403Z
LAST-MODIFIED:20250417T133859Z
UID:10000894-1811439000-1811439000@crossgatesgolf.com
SUMMARY:Thursday Night League
DESCRIPTION:
URL:https://crossgatesgolf.com/event/thursday-night-league/2027-05-27/
END:VEVENT
BEGIN:VEVENT
DTSTART;VALUE=DATE:20270531
DTEND;VALUE=DATE:20270601
DTSTAMP:20260420T035212
CREATED:20250417T133218Z
LAST-MODIFIED:20250417T133218Z
UID:10000114-1811721600-1811807999@crossgatesgolf.com
SUMMARY:Monday Night League
DESCRIPTION:
URL:https://crossgatesgolf.com/event/monday-night-league/2027-05-31/
END:VEVENT
BEGIN:VEVENT
DTSTART;TZID=America/Toronto:20270603T150000
DTEND;TZID=America/Toronto:20270603T170000
DTSTAMP:20260420T035212
CREATED:20250417T133929Z
LAST-MODIFIED:20250417T133929Z
UID:10001156-1812034800-1812042000@crossgatesgolf.com
SUMMARY:$30 Thursdays
DESCRIPTION:
URL:https://crossgatesgolf.com/event/30-thursdays/2027-06-03/
END:VEVENT
BEGIN:VEVENT
DTSTART;TZID=America/Toronto:20270603T173000
DTEND;TZID=America/Toronto:20270603T173000
DTSTAMP:20260420T035212
CREATED:20250417T133403Z
LAST-MODIFIED:20250417T133859Z
UID:10000895-1812043800-1812043800@crossgatesgolf.com
SUMMARY:Thursday Night League
DESCRIPTION:
URL:https://crossgatesgolf.com/event/thursday-night-league/2027-06-03/
END:VEVENT
BEGIN:VEVENT
DTSTART;VALUE=DATE:20270607
DTEND;VALUE=DATE:20270608
DTSTAMP:20260420T035212
CREATED:20250417T133218Z
LAST-MODIFIED:20250417T133218Z
UID:10000115-1812326400-1812412799@crossgatesgolf.com
SUMMARY:Monday Night League
DESCRIPTION:
URL:https://crossgatesgolf.com/event/monday-night-league/2027-06-07/
END:VEVENT
BEGIN:VEVENT
DTSTART;TZID=America/Toronto:20270610T150000
DTEND;TZID=America/Toronto:20270610T170000
DTSTAMP:20260420T035212
CREATED:20250417T133929Z
LAST-MODIFIED:20250417T133929Z
UID:10001157-1812639600-1812646800@crossgatesgolf.com
SUMMARY:$30 Thursdays
DESCRIPTION:
URL:https://crossgatesgolf.com/event/30-thursdays/2027-06-10/
END:VEVENT
BEGIN:VEVENT
DTSTART;TZID=America/Toronto:20270610T173000
DTEND;TZID=America/Toronto:20270610T173000
DTSTAMP:20260420T035212
CREATED:20250417T133403Z
LAST-MODIFIED:20250417T133859Z
UID:10000896-1812648600-1812648600@crossgatesgolf.com
SUMMARY:Thursday Night League
DESCRIPTION:
URL:https://crossgatesgolf.com/event/thursday-night-league/2027-06-10/
END:VEVENT
BEGIN:VEVENT
DTSTART;VALUE=DATE:20270614
DTEND;VALUE=DATE:20270615
DTSTAMP:20260420T035212
CREATED:20250417T133218Z
LAST-MODIFIED:20250417T133218Z
UID:10000116-1812931200-1813017599@crossgatesgolf.com
SUMMARY:Monday Night League
DESCRIPTION:
URL:https://crossgatesgolf.com/event/monday-night-league/2027-06-14/
END:VEVENT
BEGIN:VEVENT
DTSTART;TZID=America/Toronto:20270617T150000
DTEND;TZID=America/Toronto:20270617T170000
DTSTAMP:20260420T035212
CREATED:20250417T133929Z
LAST-MODIFIED:20250417T133929Z
UID:10001158-1813244400-1813251600@crossgatesgolf.com
SUMMARY:$30 Thursdays
DESCRIPTION:
URL:https://crossgatesgolf.com/event/30-thursdays/2027-06-17/
END:VEVENT
BEGIN:VEVENT
DTSTART;TZID=America/Toronto:20270617T173000
DTEND;TZID=America/Toronto:20270617T173000
DTSTAMP:20260420T035212
CREATED:20250417T133403Z
LAST-MODIFIED:20250417T133859Z
UID:10000897-1813253400-1813253400@crossgatesgolf.com
SUMMARY:Thursday Night League
DESCRIPTION:
URL:https://crossgatesgolf.com/event/thursday-night-league/2027-06-17/
END:VEVENT
BEGIN:VEVENT
DTSTART;VALUE=DATE:20270621
DTEND;VALUE=DATE:20270622
DTSTAMP:20260420T035212
CREATED:20250417T133218Z
LAST-MODIFIED:20250417T133218Z
UID:10000117-1813536000-1813622399@crossgatesgolf.com
SUMMARY:Monday Night League
DESCRIPTION:
URL:https://crossgatesgolf.com/event/monday-night-league/2027-06-21/
END:VEVENT
BEGIN:VEVENT
DTSTART;TZID=America/Toronto:20270624T150000
DTEND;TZID=America/Toronto:20270624T170000
DTSTAMP:20260420T035212
CREATED:20250417T133929Z
LAST-MODIFIED:20250417T133929Z
UID:10001159-1813849200-1813856400@crossgatesgolf.com
SUMMARY:$30 Thursdays
DESCRIPTION:
URL:https://crossgatesgolf.com/event/30-thursdays/2027-06-24/
END:VEVENT
BEGIN:VEVENT
DTSTART;TZID=America/Toronto:20270624T173000
DTEND;TZID=America/Toronto:20270624T173000
DTSTAMP:20260420T035212
CREATED:20250417T133403Z
LAST-MODIFIED:20250417T133859Z
UID:10000898-1813858200-1813858200@crossgatesgolf.com
SUMMARY:Thursday Night League
DESCRIPTION:
URL:https://crossgatesgolf.com/event/thursday-night-league/2027-06-24/
END:VEVENT
BEGIN:VEVENT
DTSTART;VALUE=DATE:20270628
DTEND;VALUE=DATE:20270629
DTSTAMP:20260420T035212
CREATED:20250417T133218Z
LAST-MODIFIED:20250417T133218Z
UID:10000118-1814140800-1814227199@crossgatesgolf.com
SUMMARY:Monday Night League
DESCRIPTION:
URL:https://crossgatesgolf.com/event/monday-night-league/2027-06-28/
END:VEVENT
BEGIN:VEVENT
DTSTART;TZID=America/Toronto:20270701T150000
DTEND;TZID=America/Toronto:20270701T170000
DTSTAMP:20260420T035212
CREATED:20250417T133929Z
LAST-MODIFIED:20250417T133929Z
UID:10001160-1814454000-1814461200@crossgatesgolf.com
SUMMARY:$30 Thursdays
DESCRIPTION:
URL:https://crossgatesgolf.com/event/30-thursdays/2027-07-01/
END:VEVENT
BEGIN:VEVENT
DTSTART;TZID=America/Toronto:20270701T173000
DTEND;TZID=America/Toronto:20270701T173000
DTSTAMP:20260420T035212
CREATED:20250417T133403Z
LAST-MODIFIED:20250417T133859Z
UID:10000899-1814463000-1814463000@crossgatesgolf.com
SUMMARY:Thursday Night League
DESCRIPTION:
URL:https://crossgatesgolf.com/event/thursday-night-league/2027-07-01/
END:VEVENT
BEGIN:VEVENT
DTSTART;VALUE=DATE:20270705
DTEND;VALUE=DATE:20270706
DTSTAMP:20260420T035212
CREATED:20250417T133218Z
LAST-MODIFIED:20250417T133218Z
UID:10000119-1814745600-1814831999@crossgatesgolf.com
SUMMARY:Monday Night League
DESCRIPTION:
URL:https://crossgatesgolf.com/event/monday-night-league/2027-07-05/
END:VEVENT
BEGIN:VEVENT
DTSTART;TZID=America/Toronto:20270708T150000
DTEND;TZID=America/Toronto:20270708T170000
DTSTAMP:20260420T035212
CREATED:20250417T133929Z
LAST-MODIFIED:20250417T133929Z
UID:10001161-1815058800-1815066000@crossgatesgolf.com
SUMMARY:$30 Thursdays
DESCRIPTION:
URL:https://crossgatesgolf.com/event/30-thursdays/2027-07-08/
END:VEVENT
BEGIN:VEVENT
DTSTART;TZID=America/Toronto:20270708T173000
DTEND;TZID=America/Toronto:20270708T173000
DTSTAMP:20260420T035212
CREATED:20250417T133403Z
LAST-MODIFIED:20250417T133859Z
UID:10000900-1815067800-1815067800@crossgatesgolf.com
SUMMARY:Thursday Night League
DESCRIPTION:
URL:https://crossgatesgolf.com/event/thursday-night-league/2027-07-08/
END:VEVENT
BEGIN:VEVENT
DTSTART;VALUE=DATE:20270712
DTEND;VALUE=DATE:20270713
DTSTAMP:20260420T035212
CREATED:20250417T133218Z
LAST-MODIFIED:20250417T133218Z
UID:10000120-1815350400-1815436799@crossgatesgolf.com
SUMMARY:Monday Night League
DESCRIPTION:
URL:https://crossgatesgolf.com/event/monday-night-league/2027-07-12/
END:VEVENT
END:VCALENDAR