BEGIN:VCALENDAR
VERSION:2.0
PRODID:-//Crossgates - ECPv6.15.20//NONSGML v1.0//EN
CALSCALE:GREGORIAN
METHOD:PUBLISH
X-WR-CALNAME:Crossgates
X-ORIGINAL-URL:https://crossgatesgolf.com
X-WR-CALDESC:Events for Crossgates
REFRESH-INTERVAL;VALUE=DURATION:PT1H
X-Robots-Tag:noindex
X-PUBLISHED-TTL:PT1H
BEGIN:VTIMEZONE
TZID:America/Toronto
BEGIN:DAYLIGHT
TZOFFSETFROM:-0500
TZOFFSETTO:-0400
TZNAME:EDT
DTSTART:20270314T070000
END:DAYLIGHT
BEGIN:STANDARD
TZOFFSETFROM:-0400
TZOFFSETTO:-0500
TZNAME:EST
DTSTART:20271107T060000
END:STANDARD
BEGIN:DAYLIGHT
TZOFFSETFROM:-0500
TZOFFSETTO:-0400
TZNAME:EDT
DTSTART:20280312T070000
END:DAYLIGHT
BEGIN:STANDARD
TZOFFSETFROM:-0400
TZOFFSETTO:-0500
TZNAME:EST
DTSTART:20281105T060000
END:STANDARD
BEGIN:DAYLIGHT
TZOFFSETFROM:-0500
TZOFFSETTO:-0400
TZNAME:EDT
DTSTART:20290311T070000
END:DAYLIGHT
BEGIN:STANDARD
TZOFFSETFROM:-0400
TZOFFSETTO:-0500
TZNAME:EST
DTSTART:20291104T060000
END:STANDARD
END:VTIMEZONE
BEGIN:VEVENT
DTSTART;TZID=America/Toronto:20280323T173000
DTEND;TZID=America/Toronto:20280323T173000
DTSTAMP:20260421T210953
CREATED:20250417T133403Z
LAST-MODIFIED:20250417T133859Z
UID:10000937-1837445400-1837445400@crossgatesgolf.com
SUMMARY:Thursday Night League
DESCRIPTION:
URL:https://crossgatesgolf.com/event/thursday-night-league/2028-03-23/
END:VEVENT
BEGIN:VEVENT
DTSTART;VALUE=DATE:20280327
DTEND;VALUE=DATE:20280328
DTSTAMP:20260421T210953
CREATED:20250417T133218Z
LAST-MODIFIED:20250417T133218Z
UID:10000157-1837728000-1837814399@crossgatesgolf.com
SUMMARY:Monday Night League
DESCRIPTION:
URL:https://crossgatesgolf.com/event/monday-night-league/2028-03-27/
END:VEVENT
BEGIN:VEVENT
DTSTART;TZID=America/Toronto:20280330T150000
DTEND;TZID=America/Toronto:20280330T170000
DTSTAMP:20260421T210953
CREATED:20250417T133929Z
LAST-MODIFIED:20250417T133929Z
UID:10001199-1838041200-1838048400@crossgatesgolf.com
SUMMARY:$30 Thursdays
DESCRIPTION:
URL:https://crossgatesgolf.com/event/30-thursdays/2028-03-30/
END:VEVENT
BEGIN:VEVENT
DTSTART;TZID=America/Toronto:20280330T173000
DTEND;TZID=America/Toronto:20280330T173000
DTSTAMP:20260421T210953
CREATED:20250417T133403Z
LAST-MODIFIED:20250417T133859Z
UID:10000938-1838050200-1838050200@crossgatesgolf.com
SUMMARY:Thursday Night League
DESCRIPTION:
URL:https://crossgatesgolf.com/event/thursday-night-league/2028-03-30/
END:VEVENT
BEGIN:VEVENT
DTSTART;VALUE=DATE:20280403
DTEND;VALUE=DATE:20280404
DTSTAMP:20260421T210953
CREATED:20250417T133218Z
LAST-MODIFIED:20250417T133218Z
UID:10000158-1838332800-1838419199@crossgatesgolf.com
SUMMARY:Monday Night League
DESCRIPTION:
URL:https://crossgatesgolf.com/event/monday-night-league/2028-04-03/
END:VEVENT
BEGIN:VEVENT
DTSTART;TZID=America/Toronto:20280406T150000
DTEND;TZID=America/Toronto:20280406T170000
DTSTAMP:20260421T210953
CREATED:20250417T133929Z
LAST-MODIFIED:20250417T133929Z
UID:10001200-1838646000-1838653200@crossgatesgolf.com
SUMMARY:$30 Thursdays
DESCRIPTION:
URL:https://crossgatesgolf.com/event/30-thursdays/2028-04-06/
END:VEVENT
BEGIN:VEVENT
DTSTART;TZID=America/Toronto:20280406T173000
DTEND;TZID=America/Toronto:20280406T173000
DTSTAMP:20260421T210953
CREATED:20250417T133403Z
LAST-MODIFIED:20250417T133859Z
UID:10000939-1838655000-1838655000@crossgatesgolf.com
SUMMARY:Thursday Night League
DESCRIPTION:
URL:https://crossgatesgolf.com/event/thursday-night-league/2028-04-06/
END:VEVENT
BEGIN:VEVENT
DTSTART;VALUE=DATE:20280410
DTEND;VALUE=DATE:20280411
DTSTAMP:20260421T210953
CREATED:20250417T133218Z
LAST-MODIFIED:20250417T133218Z
UID:10000159-1838937600-1839023999@crossgatesgolf.com
SUMMARY:Monday Night League
DESCRIPTION:
URL:https://crossgatesgolf.com/event/monday-night-league/2028-04-10/
END:VEVENT
BEGIN:VEVENT
DTSTART;TZID=America/Toronto:20280413T150000
DTEND;TZID=America/Toronto:20280413T170000
DTSTAMP:20260421T210953
CREATED:20250417T133929Z
LAST-MODIFIED:20250417T133929Z
UID:10001201-1839250800-1839258000@crossgatesgolf.com
SUMMARY:$30 Thursdays
DESCRIPTION:
URL:https://crossgatesgolf.com/event/30-thursdays/2028-04-13/
END:VEVENT
BEGIN:VEVENT
DTSTART;TZID=America/Toronto:20280413T173000
DTEND;TZID=America/Toronto:20280413T173000
DTSTAMP:20260421T210953
CREATED:20250417T133403Z
LAST-MODIFIED:20250417T133859Z
UID:10000940-1839259800-1839259800@crossgatesgolf.com
SUMMARY:Thursday Night League
DESCRIPTION:
URL:https://crossgatesgolf.com/event/thursday-night-league/2028-04-13/
END:VEVENT
BEGIN:VEVENT
DTSTART;VALUE=DATE:20280417
DTEND;VALUE=DATE:20280418
DTSTAMP:20260421T210953
CREATED:20250417T133218Z
LAST-MODIFIED:20250417T133218Z
UID:10000160-1839542400-1839628799@crossgatesgolf.com
SUMMARY:Monday Night League
DESCRIPTION:
URL:https://crossgatesgolf.com/event/monday-night-league/2028-04-17/
END:VEVENT
BEGIN:VEVENT
DTSTART;TZID=America/Toronto:20280420T150000
DTEND;TZID=America/Toronto:20280420T170000
DTSTAMP:20260421T210953
CREATED:20250417T133929Z
LAST-MODIFIED:20250417T133929Z
UID:10001202-1839855600-1839862800@crossgatesgolf.com
SUMMARY:$30 Thursdays
DESCRIPTION:
URL:https://crossgatesgolf.com/event/30-thursdays/2028-04-20/
END:VEVENT
BEGIN:VEVENT
DTSTART;TZID=America/Toronto:20280420T173000
DTEND;TZID=America/Toronto:20280420T173000
DTSTAMP:20260421T210953
CREATED:20250417T133403Z
LAST-MODIFIED:20250417T133859Z
UID:10000941-1839864600-1839864600@crossgatesgolf.com
SUMMARY:Thursday Night League
DESCRIPTION:
URL:https://crossgatesgolf.com/event/thursday-night-league/2028-04-20/
END:VEVENT
BEGIN:VEVENT
DTSTART;VALUE=DATE:20280424
DTEND;VALUE=DATE:20280425
DTSTAMP:20260421T210953
CREATED:20250417T133218Z
LAST-MODIFIED:20250417T133218Z
UID:10000161-1840147200-1840233599@crossgatesgolf.com
SUMMARY:Monday Night League
DESCRIPTION:
URL:https://crossgatesgolf.com/event/monday-night-league/2028-04-24/
END:VEVENT
BEGIN:VEVENT
DTSTART;TZID=America/Toronto:20280427T150000
DTEND;TZID=America/Toronto:20280427T170000
DTSTAMP:20260421T210953
CREATED:20250417T133929Z
LAST-MODIFIED:20250417T133929Z
UID:10001203-1840460400-1840467600@crossgatesgolf.com
SUMMARY:$30 Thursdays
DESCRIPTION:
URL:https://crossgatesgolf.com/event/30-thursdays/2028-04-27/
END:VEVENT
BEGIN:VEVENT
DTSTART;TZID=America/Toronto:20280427T173000
DTEND;TZID=America/Toronto:20280427T173000
DTSTAMP:20260421T210953
CREATED:20250417T133403Z
LAST-MODIFIED:20250417T133859Z
UID:10000942-1840469400-1840469400@crossgatesgolf.com
SUMMARY:Thursday Night League
DESCRIPTION:
URL:https://crossgatesgolf.com/event/thursday-night-league/2028-04-27/
END:VEVENT
BEGIN:VEVENT
DTSTART;VALUE=DATE:20280501
DTEND;VALUE=DATE:20280502
DTSTAMP:20260421T210953
CREATED:20250417T133218Z
LAST-MODIFIED:20250417T133218Z
UID:10000162-1840752000-1840838399@crossgatesgolf.com
SUMMARY:Monday Night League
DESCRIPTION:
URL:https://crossgatesgolf.com/event/monday-night-league/2028-05-01/
END:VEVENT
BEGIN:VEVENT
DTSTART;TZID=America/Toronto:20280504T150000
DTEND;TZID=America/Toronto:20280504T170000
DTSTAMP:20260421T210953
CREATED:20250417T133929Z
LAST-MODIFIED:20250417T133929Z
UID:10001204-1841065200-1841072400@crossgatesgolf.com
SUMMARY:$30 Thursdays
DESCRIPTION:
URL:https://crossgatesgolf.com/event/30-thursdays/2028-05-04/
END:VEVENT
BEGIN:VEVENT
DTSTART;TZID=America/Toronto:20280504T173000
DTEND;TZID=America/Toronto:20280504T173000
DTSTAMP:20260421T210953
CREATED:20250417T133403Z
LAST-MODIFIED:20250417T133859Z
UID:10000943-1841074200-1841074200@crossgatesgolf.com
SUMMARY:Thursday Night League
DESCRIPTION:
URL:https://crossgatesgolf.com/event/thursday-night-league/2028-05-04/
END:VEVENT
BEGIN:VEVENT
DTSTART;VALUE=DATE:20280508
DTEND;VALUE=DATE:20280509
DTSTAMP:20260421T210953
CREATED:20250417T133218Z
LAST-MODIFIED:20250417T133218Z
UID:10000163-1841356800-1841443199@crossgatesgolf.com
SUMMARY:Monday Night League
DESCRIPTION:
URL:https://crossgatesgolf.com/event/monday-night-league/2028-05-08/
END:VEVENT
BEGIN:VEVENT
DTSTART;TZID=America/Toronto:20280511T150000
DTEND;TZID=America/Toronto:20280511T170000
DTSTAMP:20260421T210953
CREATED:20250417T133929Z
LAST-MODIFIED:20250417T133929Z
UID:10001205-1841670000-1841677200@crossgatesgolf.com
SUMMARY:$30 Thursdays
DESCRIPTION:
URL:https://crossgatesgolf.com/event/30-thursdays/2028-05-11/
END:VEVENT
BEGIN:VEVENT
DTSTART;TZID=America/Toronto:20280511T173000
DTEND;TZID=America/Toronto:20280511T173000
DTSTAMP:20260421T210953
CREATED:20250417T133403Z
LAST-MODIFIED:20250417T133859Z
UID:10000944-1841679000-1841679000@crossgatesgolf.com
SUMMARY:Thursday Night League
DESCRIPTION:
URL:https://crossgatesgolf.com/event/thursday-night-league/2028-05-11/
END:VEVENT
BEGIN:VEVENT
DTSTART;VALUE=DATE:20280515
DTEND;VALUE=DATE:20280516
DTSTAMP:20260421T210953
CREATED:20250417T133218Z
LAST-MODIFIED:20250417T133218Z
UID:10000164-1841961600-1842047999@crossgatesgolf.com
SUMMARY:Monday Night League
DESCRIPTION:
URL:https://crossgatesgolf.com/event/monday-night-league/2028-05-15/
END:VEVENT
BEGIN:VEVENT
DTSTART;TZID=America/Toronto:20280518T150000
DTEND;TZID=America/Toronto:20280518T170000
DTSTAMP:20260421T210953
CREATED:20250417T133929Z
LAST-MODIFIED:20250417T133929Z
UID:10001206-1842274800-1842282000@crossgatesgolf.com
SUMMARY:$30 Thursdays
DESCRIPTION:
URL:https://crossgatesgolf.com/event/30-thursdays/2028-05-18/
END:VEVENT
BEGIN:VEVENT
DTSTART;TZID=America/Toronto:20280518T173000
DTEND;TZID=America/Toronto:20280518T173000
DTSTAMP:20260421T210953
CREATED:20250417T133403Z
LAST-MODIFIED:20250417T133859Z
UID:10000945-1842283800-1842283800@crossgatesgolf.com
SUMMARY:Thursday Night League
DESCRIPTION:
URL:https://crossgatesgolf.com/event/thursday-night-league/2028-05-18/
END:VEVENT
BEGIN:VEVENT
DTSTART;VALUE=DATE:20280522
DTEND;VALUE=DATE:20280523
DTSTAMP:20260421T210953
CREATED:20250417T133218Z
LAST-MODIFIED:20250417T133218Z
UID:10000165-1842566400-1842652799@crossgatesgolf.com
SUMMARY:Monday Night League
DESCRIPTION:
URL:https://crossgatesgolf.com/event/monday-night-league/2028-05-22/
END:VEVENT
BEGIN:VEVENT
DTSTART;TZID=America/Toronto:20280525T150000
DTEND;TZID=America/Toronto:20280525T170000
DTSTAMP:20260421T210953
CREATED:20250417T133929Z
LAST-MODIFIED:20250417T133929Z
UID:10001207-1842879600-1842886800@crossgatesgolf.com
SUMMARY:$30 Thursdays
DESCRIPTION:
URL:https://crossgatesgolf.com/event/30-thursdays/2028-05-25/
END:VEVENT
BEGIN:VEVENT
DTSTART;TZID=America/Toronto:20280525T173000
DTEND;TZID=America/Toronto:20280525T173000
DTSTAMP:20260421T210953
CREATED:20250417T133403Z
LAST-MODIFIED:20250417T133859Z
UID:10000946-1842888600-1842888600@crossgatesgolf.com
SUMMARY:Thursday Night League
DESCRIPTION:
URL:https://crossgatesgolf.com/event/thursday-night-league/2028-05-25/
END:VEVENT
BEGIN:VEVENT
DTSTART;VALUE=DATE:20280529
DTEND;VALUE=DATE:20280530
DTSTAMP:20260421T210953
CREATED:20250417T133218Z
LAST-MODIFIED:20250417T133218Z
UID:10000166-1843171200-1843257599@crossgatesgolf.com
SUMMARY:Monday Night League
DESCRIPTION:
URL:https://crossgatesgolf.com/event/monday-night-league/2028-05-29/
END:VEVENT
BEGIN:VEVENT
DTSTART;TZID=America/Toronto:20280601T150000
DTEND;TZID=America/Toronto:20280601T170000
DTSTAMP:20260421T210953
CREATED:20250417T133929Z
LAST-MODIFIED:20250417T133929Z
UID:10001208-1843484400-1843491600@crossgatesgolf.com
SUMMARY:$30 Thursdays
DESCRIPTION:
URL:https://crossgatesgolf.com/event/30-thursdays/2028-06-01/
END:VEVENT
END:VCALENDAR