BEGIN:VCALENDAR
VERSION:2.0
PRODID:-//Crossgates - ECPv6.15.20//NONSGML v1.0//EN
CALSCALE:GREGORIAN
METHOD:PUBLISH
X-ORIGINAL-URL:https://crossgatesgolf.com
X-WR-CALDESC:Events for Crossgates
REFRESH-INTERVAL;VALUE=DURATION:PT1H
X-Robots-Tag:noindex
X-PUBLISHED-TTL:PT1H
BEGIN:VTIMEZONE
TZID:America/Toronto
BEGIN:DAYLIGHT
TZOFFSETFROM:-0500
TZOFFSETTO:-0400
TZNAME:EDT
DTSTART:20270314T070000
END:DAYLIGHT
BEGIN:STANDARD
TZOFFSETFROM:-0400
TZOFFSETTO:-0500
TZNAME:EST
DTSTART:20271107T060000
END:STANDARD
BEGIN:DAYLIGHT
TZOFFSETFROM:-0500
TZOFFSETTO:-0400
TZNAME:EDT
DTSTART:20280312T070000
END:DAYLIGHT
BEGIN:STANDARD
TZOFFSETFROM:-0400
TZOFFSETTO:-0500
TZNAME:EST
DTSTART:20281105T060000
END:STANDARD
BEGIN:DAYLIGHT
TZOFFSETFROM:-0500
TZOFFSETTO:-0400
TZNAME:EDT
DTSTART:20290311T070000
END:DAYLIGHT
BEGIN:STANDARD
TZOFFSETFROM:-0400
TZOFFSETTO:-0500
TZNAME:EST
DTSTART:20291104T060000
END:STANDARD
END:VTIMEZONE
BEGIN:VEVENT
DTSTART;VALUE=DATE:20280110
DTEND;VALUE=DATE:20280111
DTSTAMP:20260419T205951
CREATED:20250417T133218Z
LAST-MODIFIED:20250417T133218Z
UID:10000146-1831075200-1831161599@crossgatesgolf.com
SUMMARY:Monday Night League
DESCRIPTION:
URL:https://crossgatesgolf.com/event/monday-night-league/2028-01-10/
END:VEVENT
BEGIN:VEVENT
DTSTART;TZID=America/Toronto:20280113T150000
DTEND;TZID=America/Toronto:20280113T170000
DTSTAMP:20260419T205951
CREATED:20250417T133929Z
LAST-MODIFIED:20250417T133929Z
UID:10001188-1831388400-1831395600@crossgatesgolf.com
SUMMARY:$30 Thursdays
DESCRIPTION:
URL:https://crossgatesgolf.com/event/30-thursdays/2028-01-13/
END:VEVENT
BEGIN:VEVENT
DTSTART;TZID=America/Toronto:20280113T173000
DTEND;TZID=America/Toronto:20280113T173000
DTSTAMP:20260419T205951
CREATED:20250417T133403Z
LAST-MODIFIED:20250417T133859Z
UID:10000927-1831397400-1831397400@crossgatesgolf.com
SUMMARY:Thursday Night League
DESCRIPTION:
URL:https://crossgatesgolf.com/event/thursday-night-league/2028-01-13/
END:VEVENT
BEGIN:VEVENT
DTSTART;VALUE=DATE:20280117
DTEND;VALUE=DATE:20280118
DTSTAMP:20260419T205951
CREATED:20250417T133218Z
LAST-MODIFIED:20250417T133218Z
UID:10000147-1831680000-1831766399@crossgatesgolf.com
SUMMARY:Monday Night League
DESCRIPTION:
URL:https://crossgatesgolf.com/event/monday-night-league/2028-01-17/
END:VEVENT
BEGIN:VEVENT
DTSTART;TZID=America/Toronto:20280120T150000
DTEND;TZID=America/Toronto:20280120T170000
DTSTAMP:20260419T205951
CREATED:20250417T133929Z
LAST-MODIFIED:20250417T133929Z
UID:10001189-1831993200-1832000400@crossgatesgolf.com
SUMMARY:$30 Thursdays
DESCRIPTION:
URL:https://crossgatesgolf.com/event/30-thursdays/2028-01-20/
END:VEVENT
BEGIN:VEVENT
DTSTART;TZID=America/Toronto:20280120T173000
DTEND;TZID=America/Toronto:20280120T173000
DTSTAMP:20260419T205951
CREATED:20250417T133403Z
LAST-MODIFIED:20250417T133859Z
UID:10000928-1832002200-1832002200@crossgatesgolf.com
SUMMARY:Thursday Night League
DESCRIPTION:
URL:https://crossgatesgolf.com/event/thursday-night-league/2028-01-20/
END:VEVENT
BEGIN:VEVENT
DTSTART;VALUE=DATE:20280124
DTEND;VALUE=DATE:20280125
DTSTAMP:20260419T205951
CREATED:20250417T133218Z
LAST-MODIFIED:20250417T133218Z
UID:10000148-1832284800-1832371199@crossgatesgolf.com
SUMMARY:Monday Night League
DESCRIPTION:
URL:https://crossgatesgolf.com/event/monday-night-league/2028-01-24/
END:VEVENT
BEGIN:VEVENT
DTSTART;TZID=America/Toronto:20280127T150000
DTEND;TZID=America/Toronto:20280127T170000
DTSTAMP:20260419T205951
CREATED:20250417T133929Z
LAST-MODIFIED:20250417T133929Z
UID:10001190-1832598000-1832605200@crossgatesgolf.com
SUMMARY:$30 Thursdays
DESCRIPTION:
URL:https://crossgatesgolf.com/event/30-thursdays/2028-01-27/
END:VEVENT
BEGIN:VEVENT
DTSTART;TZID=America/Toronto:20280127T173000
DTEND;TZID=America/Toronto:20280127T173000
DTSTAMP:20260419T205951
CREATED:20250417T133403Z
LAST-MODIFIED:20250417T133859Z
UID:10000929-1832607000-1832607000@crossgatesgolf.com
SUMMARY:Thursday Night League
DESCRIPTION:
URL:https://crossgatesgolf.com/event/thursday-night-league/2028-01-27/
END:VEVENT
BEGIN:VEVENT
DTSTART;VALUE=DATE:20280131
DTEND;VALUE=DATE:20280201
DTSTAMP:20260419T205951
CREATED:20250417T133218Z
LAST-MODIFIED:20250417T133218Z
UID:10000149-1832889600-1832975999@crossgatesgolf.com
SUMMARY:Monday Night League
DESCRIPTION:
URL:https://crossgatesgolf.com/event/monday-night-league/2028-01-31/
END:VEVENT
BEGIN:VEVENT
DTSTART;TZID=America/Toronto:20280203T150000
DTEND;TZID=America/Toronto:20280203T170000
DTSTAMP:20260419T205951
CREATED:20250417T133929Z
LAST-MODIFIED:20250417T133929Z
UID:10001191-1833202800-1833210000@crossgatesgolf.com
SUMMARY:$30 Thursdays
DESCRIPTION:
URL:https://crossgatesgolf.com/event/30-thursdays/2028-02-03/
END:VEVENT
BEGIN:VEVENT
DTSTART;TZID=America/Toronto:20280203T173000
DTEND;TZID=America/Toronto:20280203T173000
DTSTAMP:20260419T205951
CREATED:20250417T133403Z
LAST-MODIFIED:20250417T133859Z
UID:10000930-1833211800-1833211800@crossgatesgolf.com
SUMMARY:Thursday Night League
DESCRIPTION:
URL:https://crossgatesgolf.com/event/thursday-night-league/2028-02-03/
END:VEVENT
BEGIN:VEVENT
DTSTART;VALUE=DATE:20280207
DTEND;VALUE=DATE:20280208
DTSTAMP:20260419T205951
CREATED:20250417T133218Z
LAST-MODIFIED:20250417T133218Z
UID:10000150-1833494400-1833580799@crossgatesgolf.com
SUMMARY:Monday Night League
DESCRIPTION:
URL:https://crossgatesgolf.com/event/monday-night-league/2028-02-07/
END:VEVENT
BEGIN:VEVENT
DTSTART;TZID=America/Toronto:20280210T150000
DTEND;TZID=America/Toronto:20280210T170000
DTSTAMP:20260419T205951
CREATED:20250417T133929Z
LAST-MODIFIED:20250417T133929Z
UID:10001192-1833807600-1833814800@crossgatesgolf.com
SUMMARY:$30 Thursdays
DESCRIPTION:
URL:https://crossgatesgolf.com/event/30-thursdays/2028-02-10/
END:VEVENT
BEGIN:VEVENT
DTSTART;TZID=America/Toronto:20280210T173000
DTEND;TZID=America/Toronto:20280210T173000
DTSTAMP:20260419T205951
CREATED:20250417T133403Z
LAST-MODIFIED:20250417T133859Z
UID:10000931-1833816600-1833816600@crossgatesgolf.com
SUMMARY:Thursday Night League
DESCRIPTION:
URL:https://crossgatesgolf.com/event/thursday-night-league/2028-02-10/
END:VEVENT
BEGIN:VEVENT
DTSTART;VALUE=DATE:20280214
DTEND;VALUE=DATE:20280215
DTSTAMP:20260419T205951
CREATED:20250417T133218Z
LAST-MODIFIED:20250417T133218Z
UID:10000151-1834099200-1834185599@crossgatesgolf.com
SUMMARY:Monday Night League
DESCRIPTION:
URL:https://crossgatesgolf.com/event/monday-night-league/2028-02-14/
END:VEVENT
BEGIN:VEVENT
DTSTART;TZID=America/Toronto:20280217T150000
DTEND;TZID=America/Toronto:20280217T170000
DTSTAMP:20260419T205951
CREATED:20250417T133929Z
LAST-MODIFIED:20250417T133929Z
UID:10001193-1834412400-1834419600@crossgatesgolf.com
SUMMARY:$30 Thursdays
DESCRIPTION:
URL:https://crossgatesgolf.com/event/30-thursdays/2028-02-17/
END:VEVENT
BEGIN:VEVENT
DTSTART;TZID=America/Toronto:20280217T173000
DTEND;TZID=America/Toronto:20280217T173000
DTSTAMP:20260419T205951
CREATED:20250417T133403Z
LAST-MODIFIED:20250417T133859Z
UID:10000932-1834421400-1834421400@crossgatesgolf.com
SUMMARY:Thursday Night League
DESCRIPTION:
URL:https://crossgatesgolf.com/event/thursday-night-league/2028-02-17/
END:VEVENT
BEGIN:VEVENT
DTSTART;VALUE=DATE:20280221
DTEND;VALUE=DATE:20280222
DTSTAMP:20260419T205951
CREATED:20250417T133218Z
LAST-MODIFIED:20250417T133218Z
UID:10000152-1834704000-1834790399@crossgatesgolf.com
SUMMARY:Monday Night League
DESCRIPTION:
URL:https://crossgatesgolf.com/event/monday-night-league/2028-02-21/
END:VEVENT
BEGIN:VEVENT
DTSTART;TZID=America/Toronto:20280224T150000
DTEND;TZID=America/Toronto:20280224T170000
DTSTAMP:20260419T205951
CREATED:20250417T133929Z
LAST-MODIFIED:20250417T133929Z
UID:10001194-1835017200-1835024400@crossgatesgolf.com
SUMMARY:$30 Thursdays
DESCRIPTION:
URL:https://crossgatesgolf.com/event/30-thursdays/2028-02-24/
END:VEVENT
BEGIN:VEVENT
DTSTART;TZID=America/Toronto:20280224T173000
DTEND;TZID=America/Toronto:20280224T173000
DTSTAMP:20260419T205951
CREATED:20250417T133403Z
LAST-MODIFIED:20250417T133859Z
UID:10000933-1835026200-1835026200@crossgatesgolf.com
SUMMARY:Thursday Night League
DESCRIPTION:
URL:https://crossgatesgolf.com/event/thursday-night-league/2028-02-24/
END:VEVENT
BEGIN:VEVENT
DTSTART;VALUE=DATE:20280228
DTEND;VALUE=DATE:20280229
DTSTAMP:20260419T205951
CREATED:20250417T133218Z
LAST-MODIFIED:20250417T133218Z
UID:10000153-1835308800-1835395199@crossgatesgolf.com
SUMMARY:Monday Night League
DESCRIPTION:
URL:https://crossgatesgolf.com/event/monday-night-league/2028-02-28/
END:VEVENT
BEGIN:VEVENT
DTSTART;TZID=America/Toronto:20280302T150000
DTEND;TZID=America/Toronto:20280302T170000
DTSTAMP:20260419T205951
CREATED:20250417T133929Z
LAST-MODIFIED:20250417T133929Z
UID:10001195-1835622000-1835629200@crossgatesgolf.com
SUMMARY:$30 Thursdays
DESCRIPTION:
URL:https://crossgatesgolf.com/event/30-thursdays/2028-03-02/
END:VEVENT
BEGIN:VEVENT
DTSTART;TZID=America/Toronto:20280302T173000
DTEND;TZID=America/Toronto:20280302T173000
DTSTAMP:20260419T205951
CREATED:20250417T133403Z
LAST-MODIFIED:20250417T133859Z
UID:10000934-1835631000-1835631000@crossgatesgolf.com
SUMMARY:Thursday Night League
DESCRIPTION:
URL:https://crossgatesgolf.com/event/thursday-night-league/2028-03-02/
END:VEVENT
BEGIN:VEVENT
DTSTART;VALUE=DATE:20280306
DTEND;VALUE=DATE:20280307
DTSTAMP:20260419T205951
CREATED:20250417T133218Z
LAST-MODIFIED:20250417T133218Z
UID:10000154-1835913600-1835999999@crossgatesgolf.com
SUMMARY:Monday Night League
DESCRIPTION:
URL:https://crossgatesgolf.com/event/monday-night-league/2028-03-06/
END:VEVENT
BEGIN:VEVENT
DTSTART;TZID=America/Toronto:20280309T150000
DTEND;TZID=America/Toronto:20280309T170000
DTSTAMP:20260419T205951
CREATED:20250417T133929Z
LAST-MODIFIED:20250417T133929Z
UID:10001196-1836226800-1836234000@crossgatesgolf.com
SUMMARY:$30 Thursdays
DESCRIPTION:
URL:https://crossgatesgolf.com/event/30-thursdays/2028-03-09/
END:VEVENT
BEGIN:VEVENT
DTSTART;TZID=America/Toronto:20280309T173000
DTEND;TZID=America/Toronto:20280309T173000
DTSTAMP:20260419T205951
CREATED:20250417T133403Z
LAST-MODIFIED:20250417T133859Z
UID:10000935-1836235800-1836235800@crossgatesgolf.com
SUMMARY:Thursday Night League
DESCRIPTION:
URL:https://crossgatesgolf.com/event/thursday-night-league/2028-03-09/
END:VEVENT
BEGIN:VEVENT
DTSTART;VALUE=DATE:20280313
DTEND;VALUE=DATE:20280314
DTSTAMP:20260419T205951
CREATED:20250417T133218Z
LAST-MODIFIED:20250417T133218Z
UID:10000155-1836518400-1836604799@crossgatesgolf.com
SUMMARY:Monday Night League
DESCRIPTION:
URL:https://crossgatesgolf.com/event/monday-night-league/2028-03-13/
END:VEVENT
BEGIN:VEVENT
DTSTART;TZID=America/Toronto:20280316T150000
DTEND;TZID=America/Toronto:20280316T170000
DTSTAMP:20260419T205951
CREATED:20250417T133929Z
LAST-MODIFIED:20250417T133929Z
UID:10001197-1836831600-1836838800@crossgatesgolf.com
SUMMARY:$30 Thursdays
DESCRIPTION:
URL:https://crossgatesgolf.com/event/30-thursdays/2028-03-16/
END:VEVENT
BEGIN:VEVENT
DTSTART;TZID=America/Toronto:20280316T173000
DTEND;TZID=America/Toronto:20280316T173000
DTSTAMP:20260419T205951
CREATED:20250417T133403Z
LAST-MODIFIED:20250417T133859Z
UID:10000936-1836840600-1836840600@crossgatesgolf.com
SUMMARY:Thursday Night League
DESCRIPTION:
URL:https://crossgatesgolf.com/event/thursday-night-league/2028-03-16/
END:VEVENT
END:VCALENDAR