BEGIN:VCALENDAR
VERSION:2.0
PRODID:-//Crossgates - ECPv6.15.20//NONSGML v1.0//EN
CALSCALE:GREGORIAN
METHOD:PUBLISH
X-ORIGINAL-URL:https://crossgatesgolf.com
X-WR-CALDESC:Events for Crossgates
REFRESH-INTERVAL;VALUE=DURATION:PT1H
X-Robots-Tag:noindex
X-PUBLISHED-TTL:PT1H
BEGIN:VTIMEZONE
TZID:America/Toronto
BEGIN:DAYLIGHT
TZOFFSETFROM:-0500
TZOFFSETTO:-0400
TZNAME:EDT
DTSTART:20270314T070000
END:DAYLIGHT
BEGIN:STANDARD
TZOFFSETFROM:-0400
TZOFFSETTO:-0500
TZNAME:EST
DTSTART:20271107T060000
END:STANDARD
BEGIN:DAYLIGHT
TZOFFSETFROM:-0500
TZOFFSETTO:-0400
TZNAME:EDT
DTSTART:20280312T070000
END:DAYLIGHT
BEGIN:STANDARD
TZOFFSETFROM:-0400
TZOFFSETTO:-0500
TZNAME:EST
DTSTART:20281105T060000
END:STANDARD
BEGIN:DAYLIGHT
TZOFFSETFROM:-0500
TZOFFSETTO:-0400
TZNAME:EDT
DTSTART:20290311T070000
END:DAYLIGHT
BEGIN:STANDARD
TZOFFSETFROM:-0400
TZOFFSETTO:-0500
TZNAME:EST
DTSTART:20291104T060000
END:STANDARD
END:VTIMEZONE
BEGIN:VEVENT
DTSTART;TZID=America/Toronto:20280817T150000
DTEND;TZID=America/Toronto:20280817T170000
DTSTAMP:20260421T122236
CREATED:20250417T133929Z
LAST-MODIFIED:20250417T133929Z
UID:10001219-1850137200-1850144400@crossgatesgolf.com
SUMMARY:$30 Thursdays
DESCRIPTION:
URL:https://crossgatesgolf.com/event/30-thursdays/2028-08-17/
END:VEVENT
BEGIN:VEVENT
DTSTART;TZID=America/Toronto:20280817T173000
DTEND;TZID=America/Toronto:20280817T173000
DTSTAMP:20260421T122236
CREATED:20250417T133403Z
LAST-MODIFIED:20250417T133859Z
UID:10000958-1850146200-1850146200@crossgatesgolf.com
SUMMARY:Thursday Night League
DESCRIPTION:
URL:https://crossgatesgolf.com/event/thursday-night-league/2028-08-17/
END:VEVENT
BEGIN:VEVENT
DTSTART;VALUE=DATE:20280821
DTEND;VALUE=DATE:20280822
DTSTAMP:20260421T122236
CREATED:20250417T133218Z
LAST-MODIFIED:20250417T133218Z
UID:10000178-1850428800-1850515199@crossgatesgolf.com
SUMMARY:Monday Night League
DESCRIPTION:
URL:https://crossgatesgolf.com/event/monday-night-league/2028-08-21/
END:VEVENT
BEGIN:VEVENT
DTSTART;TZID=America/Toronto:20280824T150000
DTEND;TZID=America/Toronto:20280824T170000
DTSTAMP:20260421T122236
CREATED:20250417T133929Z
LAST-MODIFIED:20250417T133929Z
UID:10001220-1850742000-1850749200@crossgatesgolf.com
SUMMARY:$30 Thursdays
DESCRIPTION:
URL:https://crossgatesgolf.com/event/30-thursdays/2028-08-24/
END:VEVENT
BEGIN:VEVENT
DTSTART;TZID=America/Toronto:20280824T173000
DTEND;TZID=America/Toronto:20280824T173000
DTSTAMP:20260421T122236
CREATED:20250417T133403Z
LAST-MODIFIED:20250417T133859Z
UID:10000959-1850751000-1850751000@crossgatesgolf.com
SUMMARY:Thursday Night League
DESCRIPTION:
URL:https://crossgatesgolf.com/event/thursday-night-league/2028-08-24/
END:VEVENT
BEGIN:VEVENT
DTSTART;VALUE=DATE:20280828
DTEND;VALUE=DATE:20280829
DTSTAMP:20260421T122236
CREATED:20250417T133218Z
LAST-MODIFIED:20250417T133218Z
UID:10000179-1851033600-1851119999@crossgatesgolf.com
SUMMARY:Monday Night League
DESCRIPTION:
URL:https://crossgatesgolf.com/event/monday-night-league/2028-08-28/
END:VEVENT
BEGIN:VEVENT
DTSTART;TZID=America/Toronto:20280831T150000
DTEND;TZID=America/Toronto:20280831T170000
DTSTAMP:20260421T122236
CREATED:20250417T133929Z
LAST-MODIFIED:20250417T133929Z
UID:10001221-1851346800-1851354000@crossgatesgolf.com
SUMMARY:$30 Thursdays
DESCRIPTION:
URL:https://crossgatesgolf.com/event/30-thursdays/2028-08-31/
END:VEVENT
BEGIN:VEVENT
DTSTART;TZID=America/Toronto:20280831T173000
DTEND;TZID=America/Toronto:20280831T173000
DTSTAMP:20260421T122236
CREATED:20250417T133403Z
LAST-MODIFIED:20250417T133859Z
UID:10000960-1851355800-1851355800@crossgatesgolf.com
SUMMARY:Thursday Night League
DESCRIPTION:
URL:https://crossgatesgolf.com/event/thursday-night-league/2028-08-31/
END:VEVENT
BEGIN:VEVENT
DTSTART;VALUE=DATE:20280904
DTEND;VALUE=DATE:20280905
DTSTAMP:20260421T122236
CREATED:20250417T133218Z
LAST-MODIFIED:20250417T133218Z
UID:10000180-1851638400-1851724799@crossgatesgolf.com
SUMMARY:Monday Night League
DESCRIPTION:
URL:https://crossgatesgolf.com/event/monday-night-league/2028-09-04/
END:VEVENT
BEGIN:VEVENT
DTSTART;TZID=America/Toronto:20280907T150000
DTEND;TZID=America/Toronto:20280907T170000
DTSTAMP:20260421T122236
CREATED:20250417T133929Z
LAST-MODIFIED:20250417T133929Z
UID:10001222-1851951600-1851958800@crossgatesgolf.com
SUMMARY:$30 Thursdays
DESCRIPTION:
URL:https://crossgatesgolf.com/event/30-thursdays/2028-09-07/
END:VEVENT
BEGIN:VEVENT
DTSTART;TZID=America/Toronto:20280907T173000
DTEND;TZID=America/Toronto:20280907T173000
DTSTAMP:20260421T122236
CREATED:20250417T133403Z
LAST-MODIFIED:20250417T133859Z
UID:10000961-1851960600-1851960600@crossgatesgolf.com
SUMMARY:Thursday Night League
DESCRIPTION:
URL:https://crossgatesgolf.com/event/thursday-night-league/2028-09-07/
END:VEVENT
BEGIN:VEVENT
DTSTART;VALUE=DATE:20280911
DTEND;VALUE=DATE:20280912
DTSTAMP:20260421T122236
CREATED:20250417T133218Z
LAST-MODIFIED:20250417T133218Z
UID:10000181-1852243200-1852329599@crossgatesgolf.com
SUMMARY:Monday Night League
DESCRIPTION:
URL:https://crossgatesgolf.com/event/monday-night-league/2028-09-11/
END:VEVENT
BEGIN:VEVENT
DTSTART;TZID=America/Toronto:20280914T150000
DTEND;TZID=America/Toronto:20280914T170000
DTSTAMP:20260421T122236
CREATED:20250417T133929Z
LAST-MODIFIED:20250417T133929Z
UID:10001223-1852556400-1852563600@crossgatesgolf.com
SUMMARY:$30 Thursdays
DESCRIPTION:
URL:https://crossgatesgolf.com/event/30-thursdays/2028-09-14/
END:VEVENT
BEGIN:VEVENT
DTSTART;TZID=America/Toronto:20280914T173000
DTEND;TZID=America/Toronto:20280914T173000
DTSTAMP:20260421T122236
CREATED:20250417T133403Z
LAST-MODIFIED:20250417T133859Z
UID:10000962-1852565400-1852565400@crossgatesgolf.com
SUMMARY:Thursday Night League
DESCRIPTION:
URL:https://crossgatesgolf.com/event/thursday-night-league/2028-09-14/
END:VEVENT
BEGIN:VEVENT
DTSTART;VALUE=DATE:20280918
DTEND;VALUE=DATE:20280919
DTSTAMP:20260421T122236
CREATED:20250417T133218Z
LAST-MODIFIED:20250417T133218Z
UID:10000182-1852848000-1852934399@crossgatesgolf.com
SUMMARY:Monday Night League
DESCRIPTION:
URL:https://crossgatesgolf.com/event/monday-night-league/2028-09-18/
END:VEVENT
BEGIN:VEVENT
DTSTART;TZID=America/Toronto:20280921T150000
DTEND;TZID=America/Toronto:20280921T170000
DTSTAMP:20260421T122236
CREATED:20250417T133929Z
LAST-MODIFIED:20250417T133929Z
UID:10001224-1853161200-1853168400@crossgatesgolf.com
SUMMARY:$30 Thursdays
DESCRIPTION:
URL:https://crossgatesgolf.com/event/30-thursdays/2028-09-21/
END:VEVENT
BEGIN:VEVENT
DTSTART;TZID=America/Toronto:20280921T173000
DTEND;TZID=America/Toronto:20280921T173000
DTSTAMP:20260421T122236
CREATED:20250417T133403Z
LAST-MODIFIED:20250417T133859Z
UID:10000963-1853170200-1853170200@crossgatesgolf.com
SUMMARY:Thursday Night League
DESCRIPTION:
URL:https://crossgatesgolf.com/event/thursday-night-league/2028-09-21/
END:VEVENT
BEGIN:VEVENT
DTSTART;VALUE=DATE:20280925
DTEND;VALUE=DATE:20280926
DTSTAMP:20260421T122236
CREATED:20250417T133218Z
LAST-MODIFIED:20250417T133218Z
UID:10000183-1853452800-1853539199@crossgatesgolf.com
SUMMARY:Monday Night League
DESCRIPTION:
URL:https://crossgatesgolf.com/event/monday-night-league/2028-09-25/
END:VEVENT
BEGIN:VEVENT
DTSTART;TZID=America/Toronto:20280928T150000
DTEND;TZID=America/Toronto:20280928T170000
DTSTAMP:20260421T122236
CREATED:20250417T133929Z
LAST-MODIFIED:20250417T133929Z
UID:10001225-1853766000-1853773200@crossgatesgolf.com
SUMMARY:$30 Thursdays
DESCRIPTION:
URL:https://crossgatesgolf.com/event/30-thursdays/2028-09-28/
END:VEVENT
BEGIN:VEVENT
DTSTART;TZID=America/Toronto:20280928T173000
DTEND;TZID=America/Toronto:20280928T173000
DTSTAMP:20260421T122236
CREATED:20250417T133403Z
LAST-MODIFIED:20250417T133859Z
UID:10000964-1853775000-1853775000@crossgatesgolf.com
SUMMARY:Thursday Night League
DESCRIPTION:
URL:https://crossgatesgolf.com/event/thursday-night-league/2028-09-28/
END:VEVENT
BEGIN:VEVENT
DTSTART;VALUE=DATE:20281002
DTEND;VALUE=DATE:20281003
DTSTAMP:20260421T122236
CREATED:20250417T133218Z
LAST-MODIFIED:20250417T133218Z
UID:10000184-1854057600-1854143999@crossgatesgolf.com
SUMMARY:Monday Night League
DESCRIPTION:
URL:https://crossgatesgolf.com/event/monday-night-league/2028-10-02/
END:VEVENT
BEGIN:VEVENT
DTSTART;TZID=America/Toronto:20281005T150000
DTEND;TZID=America/Toronto:20281005T170000
DTSTAMP:20260421T122236
CREATED:20250417T133929Z
LAST-MODIFIED:20250417T133929Z
UID:10001226-1854370800-1854378000@crossgatesgolf.com
SUMMARY:$30 Thursdays
DESCRIPTION:
URL:https://crossgatesgolf.com/event/30-thursdays/2028-10-05/
END:VEVENT
BEGIN:VEVENT
DTSTART;TZID=America/Toronto:20281005T173000
DTEND;TZID=America/Toronto:20281005T173000
DTSTAMP:20260421T122236
CREATED:20250417T133403Z
LAST-MODIFIED:20250417T133859Z
UID:10000965-1854379800-1854379800@crossgatesgolf.com
SUMMARY:Thursday Night League
DESCRIPTION:
URL:https://crossgatesgolf.com/event/thursday-night-league/2028-10-05/
END:VEVENT
BEGIN:VEVENT
DTSTART;VALUE=DATE:20281009
DTEND;VALUE=DATE:20281010
DTSTAMP:20260421T122236
CREATED:20250417T133218Z
LAST-MODIFIED:20250417T133218Z
UID:10000185-1854662400-1854748799@crossgatesgolf.com
SUMMARY:Monday Night League
DESCRIPTION:
URL:https://crossgatesgolf.com/event/monday-night-league/2028-10-09/
END:VEVENT
BEGIN:VEVENT
DTSTART;TZID=America/Toronto:20281012T150000
DTEND;TZID=America/Toronto:20281012T170000
DTSTAMP:20260421T122236
CREATED:20250417T133929Z
LAST-MODIFIED:20250417T133929Z
UID:10001227-1854975600-1854982800@crossgatesgolf.com
SUMMARY:$30 Thursdays
DESCRIPTION:
URL:https://crossgatesgolf.com/event/30-thursdays/2028-10-12/
END:VEVENT
BEGIN:VEVENT
DTSTART;TZID=America/Toronto:20281012T173000
DTEND;TZID=America/Toronto:20281012T173000
DTSTAMP:20260421T122236
CREATED:20250417T133403Z
LAST-MODIFIED:20250417T133859Z
UID:10000966-1854984600-1854984600@crossgatesgolf.com
SUMMARY:Thursday Night League
DESCRIPTION:
URL:https://crossgatesgolf.com/event/thursday-night-league/2028-10-12/
END:VEVENT
BEGIN:VEVENT
DTSTART;VALUE=DATE:20281016
DTEND;VALUE=DATE:20281017
DTSTAMP:20260421T122236
CREATED:20250417T133218Z
LAST-MODIFIED:20250417T133218Z
UID:10000186-1855267200-1855353599@crossgatesgolf.com
SUMMARY:Monday Night League
DESCRIPTION:
URL:https://crossgatesgolf.com/event/monday-night-league/2028-10-16/
END:VEVENT
BEGIN:VEVENT
DTSTART;TZID=America/Toronto:20281019T150000
DTEND;TZID=America/Toronto:20281019T170000
DTSTAMP:20260421T122236
CREATED:20250417T133929Z
LAST-MODIFIED:20250417T133929Z
UID:10001228-1855580400-1855587600@crossgatesgolf.com
SUMMARY:$30 Thursdays
DESCRIPTION:
URL:https://crossgatesgolf.com/event/30-thursdays/2028-10-19/
END:VEVENT
BEGIN:VEVENT
DTSTART;TZID=America/Toronto:20281019T173000
DTEND;TZID=America/Toronto:20281019T173000
DTSTAMP:20260421T122236
CREATED:20250417T133403Z
LAST-MODIFIED:20250417T133859Z
UID:10000967-1855589400-1855589400@crossgatesgolf.com
SUMMARY:Thursday Night League
DESCRIPTION:
URL:https://crossgatesgolf.com/event/thursday-night-league/2028-10-19/
END:VEVENT
BEGIN:VEVENT
DTSTART;VALUE=DATE:20281023
DTEND;VALUE=DATE:20281024
DTSTAMP:20260421T122236
CREATED:20250417T133218Z
LAST-MODIFIED:20250417T133218Z
UID:10000187-1855872000-1855958399@crossgatesgolf.com
SUMMARY:Monday Night League
DESCRIPTION:
URL:https://crossgatesgolf.com/event/monday-night-league/2028-10-23/
END:VEVENT
END:VCALENDAR