BEGIN:VCALENDAR
VERSION:2.0
PRODID:-//Crossgates - ECPv6.15.20//NONSGML v1.0//EN
CALSCALE:GREGORIAN
METHOD:PUBLISH
X-WR-CALNAME:Crossgates
X-ORIGINAL-URL:https://crossgatesgolf.com
X-WR-CALDESC:Events for Crossgates
REFRESH-INTERVAL;VALUE=DURATION:PT1H
X-Robots-Tag:noindex
X-PUBLISHED-TTL:PT1H
BEGIN:VTIMEZONE
TZID:America/Toronto
BEGIN:DAYLIGHT
TZOFFSETFROM:-0500
TZOFFSETTO:-0400
TZNAME:EDT
DTSTART:20280312T070000
END:DAYLIGHT
BEGIN:STANDARD
TZOFFSETFROM:-0400
TZOFFSETTO:-0500
TZNAME:EST
DTSTART:20281105T060000
END:STANDARD
BEGIN:DAYLIGHT
TZOFFSETFROM:-0500
TZOFFSETTO:-0400
TZNAME:EDT
DTSTART:20290311T070000
END:DAYLIGHT
BEGIN:STANDARD
TZOFFSETFROM:-0400
TZOFFSETTO:-0500
TZNAME:EST
DTSTART:20291104T060000
END:STANDARD
BEGIN:DAYLIGHT
TZOFFSETFROM:-0500
TZOFFSETTO:-0400
TZNAME:EDT
DTSTART:20300310T070000
END:DAYLIGHT
BEGIN:STANDARD
TZOFFSETFROM:-0400
TZOFFSETTO:-0500
TZNAME:EST
DTSTART:20301103T060000
END:STANDARD
END:VTIMEZONE
BEGIN:VEVENT
DTSTART;VALUE=DATE:20290312
DTEND;VALUE=DATE:20290313
DTSTAMP:20260422T180431
CREATED:20250417T133218Z
LAST-MODIFIED:20250417T133218Z
UID:10000207-1867968000-1868054399@crossgatesgolf.com
SUMMARY:Monday Night League
DESCRIPTION:
URL:https://crossgatesgolf.com/event/monday-night-league/2029-03-12/
END:VEVENT
BEGIN:VEVENT
DTSTART;TZID=America/Toronto:20290315T150000
DTEND;TZID=America/Toronto:20290315T170000
DTSTAMP:20260422T180431
CREATED:20250417T133929Z
LAST-MODIFIED:20250417T133929Z
UID:10001249-1868281200-1868288400@crossgatesgolf.com
SUMMARY:$30 Thursdays
DESCRIPTION:
URL:https://crossgatesgolf.com/event/30-thursdays/2029-03-15/
END:VEVENT
BEGIN:VEVENT
DTSTART;TZID=America/Toronto:20290315T173000
DTEND;TZID=America/Toronto:20290315T173000
DTSTAMP:20260422T180431
CREATED:20250417T133403Z
LAST-MODIFIED:20250417T133859Z
UID:10000988-1868290200-1868290200@crossgatesgolf.com
SUMMARY:Thursday Night League
DESCRIPTION:
URL:https://crossgatesgolf.com/event/thursday-night-league/2029-03-15/
END:VEVENT
BEGIN:VEVENT
DTSTART;VALUE=DATE:20290319
DTEND;VALUE=DATE:20290320
DTSTAMP:20260422T180431
CREATED:20250417T133218Z
LAST-MODIFIED:20250417T133218Z
UID:10000208-1868572800-1868659199@crossgatesgolf.com
SUMMARY:Monday Night League
DESCRIPTION:
URL:https://crossgatesgolf.com/event/monday-night-league/2029-03-19/
END:VEVENT
BEGIN:VEVENT
DTSTART;TZID=America/Toronto:20290322T150000
DTEND;TZID=America/Toronto:20290322T170000
DTSTAMP:20260422T180431
CREATED:20250417T133929Z
LAST-MODIFIED:20250417T133929Z
UID:10001250-1868886000-1868893200@crossgatesgolf.com
SUMMARY:$30 Thursdays
DESCRIPTION:
URL:https://crossgatesgolf.com/event/30-thursdays/2029-03-22/
END:VEVENT
BEGIN:VEVENT
DTSTART;TZID=America/Toronto:20290322T173000
DTEND;TZID=America/Toronto:20290322T173000
DTSTAMP:20260422T180431
CREATED:20250417T133403Z
LAST-MODIFIED:20250417T133859Z
UID:10000989-1868895000-1868895000@crossgatesgolf.com
SUMMARY:Thursday Night League
DESCRIPTION:
URL:https://crossgatesgolf.com/event/thursday-night-league/2029-03-22/
END:VEVENT
BEGIN:VEVENT
DTSTART;VALUE=DATE:20290326
DTEND;VALUE=DATE:20290327
DTSTAMP:20260422T180431
CREATED:20250417T133218Z
LAST-MODIFIED:20250417T133218Z
UID:10000209-1869177600-1869263999@crossgatesgolf.com
SUMMARY:Monday Night League
DESCRIPTION:
URL:https://crossgatesgolf.com/event/monday-night-league/2029-03-26/
END:VEVENT
BEGIN:VEVENT
DTSTART;TZID=America/Toronto:20290329T150000
DTEND;TZID=America/Toronto:20290329T170000
DTSTAMP:20260422T180431
CREATED:20250417T133929Z
LAST-MODIFIED:20250417T133929Z
UID:10001251-1869490800-1869498000@crossgatesgolf.com
SUMMARY:$30 Thursdays
DESCRIPTION:
URL:https://crossgatesgolf.com/event/30-thursdays/2029-03-29/
END:VEVENT
BEGIN:VEVENT
DTSTART;TZID=America/Toronto:20290329T173000
DTEND;TZID=America/Toronto:20290329T173000
DTSTAMP:20260422T180431
CREATED:20250417T133403Z
LAST-MODIFIED:20250417T133859Z
UID:10000990-1869499800-1869499800@crossgatesgolf.com
SUMMARY:Thursday Night League
DESCRIPTION:
URL:https://crossgatesgolf.com/event/thursday-night-league/2029-03-29/
END:VEVENT
BEGIN:VEVENT
DTSTART;VALUE=DATE:20290402
DTEND;VALUE=DATE:20290403
DTSTAMP:20260422T180431
CREATED:20250417T133218Z
LAST-MODIFIED:20250417T133218Z
UID:10000210-1869782400-1869868799@crossgatesgolf.com
SUMMARY:Monday Night League
DESCRIPTION:
URL:https://crossgatesgolf.com/event/monday-night-league/2029-04-02/
END:VEVENT
BEGIN:VEVENT
DTSTART;TZID=America/Toronto:20290405T150000
DTEND;TZID=America/Toronto:20290405T170000
DTSTAMP:20260422T180431
CREATED:20250417T133929Z
LAST-MODIFIED:20250417T133929Z
UID:10001252-1870095600-1870102800@crossgatesgolf.com
SUMMARY:$30 Thursdays
DESCRIPTION:
URL:https://crossgatesgolf.com/event/30-thursdays/2029-04-05/
END:VEVENT
BEGIN:VEVENT
DTSTART;TZID=America/Toronto:20290405T173000
DTEND;TZID=America/Toronto:20290405T173000
DTSTAMP:20260422T180431
CREATED:20250417T133403Z
LAST-MODIFIED:20250417T133859Z
UID:10000991-1870104600-1870104600@crossgatesgolf.com
SUMMARY:Thursday Night League
DESCRIPTION:
URL:https://crossgatesgolf.com/event/thursday-night-league/2029-04-05/
END:VEVENT
BEGIN:VEVENT
DTSTART;VALUE=DATE:20290409
DTEND;VALUE=DATE:20290410
DTSTAMP:20260422T180431
CREATED:20250417T133218Z
LAST-MODIFIED:20250417T133218Z
UID:10000211-1870387200-1870473599@crossgatesgolf.com
SUMMARY:Monday Night League
DESCRIPTION:
URL:https://crossgatesgolf.com/event/monday-night-league/2029-04-09/
END:VEVENT
BEGIN:VEVENT
DTSTART;TZID=America/Toronto:20290412T150000
DTEND;TZID=America/Toronto:20290412T170000
DTSTAMP:20260422T180431
CREATED:20250417T133929Z
LAST-MODIFIED:20250417T133929Z
UID:10001253-1870700400-1870707600@crossgatesgolf.com
SUMMARY:$30 Thursdays
DESCRIPTION:
URL:https://crossgatesgolf.com/event/30-thursdays/2029-04-12/
END:VEVENT
BEGIN:VEVENT
DTSTART;TZID=America/Toronto:20290412T173000
DTEND;TZID=America/Toronto:20290412T173000
DTSTAMP:20260422T180431
CREATED:20250417T133403Z
LAST-MODIFIED:20250417T133859Z
UID:10000992-1870709400-1870709400@crossgatesgolf.com
SUMMARY:Thursday Night League
DESCRIPTION:
URL:https://crossgatesgolf.com/event/thursday-night-league/2029-04-12/
END:VEVENT
BEGIN:VEVENT
DTSTART;VALUE=DATE:20290416
DTEND;VALUE=DATE:20290417
DTSTAMP:20260422T180431
CREATED:20250417T133218Z
LAST-MODIFIED:20250417T133218Z
UID:10000212-1870992000-1871078399@crossgatesgolf.com
SUMMARY:Monday Night League
DESCRIPTION:
URL:https://crossgatesgolf.com/event/monday-night-league/2029-04-16/
END:VEVENT
BEGIN:VEVENT
DTSTART;TZID=America/Toronto:20290419T150000
DTEND;TZID=America/Toronto:20290419T170000
DTSTAMP:20260422T180431
CREATED:20250417T133929Z
LAST-MODIFIED:20250417T133929Z
UID:10001254-1871305200-1871312400@crossgatesgolf.com
SUMMARY:$30 Thursdays
DESCRIPTION:
URL:https://crossgatesgolf.com/event/30-thursdays/2029-04-19/
END:VEVENT
BEGIN:VEVENT
DTSTART;TZID=America/Toronto:20290419T173000
DTEND;TZID=America/Toronto:20290419T173000
DTSTAMP:20260422T180431
CREATED:20250417T133403Z
LAST-MODIFIED:20250417T133859Z
UID:10000993-1871314200-1871314200@crossgatesgolf.com
SUMMARY:Thursday Night League
DESCRIPTION:
URL:https://crossgatesgolf.com/event/thursday-night-league/2029-04-19/
END:VEVENT
BEGIN:VEVENT
DTSTART;VALUE=DATE:20290423
DTEND;VALUE=DATE:20290424
DTSTAMP:20260422T180431
CREATED:20250417T133218Z
LAST-MODIFIED:20250417T133218Z
UID:10000213-1871596800-1871683199@crossgatesgolf.com
SUMMARY:Monday Night League
DESCRIPTION:
URL:https://crossgatesgolf.com/event/monday-night-league/2029-04-23/
END:VEVENT
BEGIN:VEVENT
DTSTART;TZID=America/Toronto:20290426T150000
DTEND;TZID=America/Toronto:20290426T170000
DTSTAMP:20260422T180431
CREATED:20250417T133929Z
LAST-MODIFIED:20250417T133929Z
UID:10001255-1871910000-1871917200@crossgatesgolf.com
SUMMARY:$30 Thursdays
DESCRIPTION:
URL:https://crossgatesgolf.com/event/30-thursdays/2029-04-26/
END:VEVENT
BEGIN:VEVENT
DTSTART;TZID=America/Toronto:20290426T173000
DTEND;TZID=America/Toronto:20290426T173000
DTSTAMP:20260422T180431
CREATED:20250417T133403Z
LAST-MODIFIED:20250417T133859Z
UID:10000994-1871919000-1871919000@crossgatesgolf.com
SUMMARY:Thursday Night League
DESCRIPTION:
URL:https://crossgatesgolf.com/event/thursday-night-league/2029-04-26/
END:VEVENT
BEGIN:VEVENT
DTSTART;VALUE=DATE:20290430
DTEND;VALUE=DATE:20290501
DTSTAMP:20260422T180431
CREATED:20250417T133218Z
LAST-MODIFIED:20250417T133218Z
UID:10000214-1872201600-1872287999@crossgatesgolf.com
SUMMARY:Monday Night League
DESCRIPTION:
URL:https://crossgatesgolf.com/event/monday-night-league/2029-04-30/
END:VEVENT
BEGIN:VEVENT
DTSTART;TZID=America/Toronto:20290503T150000
DTEND;TZID=America/Toronto:20290503T170000
DTSTAMP:20260422T180431
CREATED:20250417T133929Z
LAST-MODIFIED:20250417T133929Z
UID:10001256-1872514800-1872522000@crossgatesgolf.com
SUMMARY:$30 Thursdays
DESCRIPTION:
URL:https://crossgatesgolf.com/event/30-thursdays/2029-05-03/
END:VEVENT
BEGIN:VEVENT
DTSTART;TZID=America/Toronto:20290503T173000
DTEND;TZID=America/Toronto:20290503T173000
DTSTAMP:20260422T180431
CREATED:20250417T133403Z
LAST-MODIFIED:20250417T133859Z
UID:10000995-1872523800-1872523800@crossgatesgolf.com
SUMMARY:Thursday Night League
DESCRIPTION:
URL:https://crossgatesgolf.com/event/thursday-night-league/2029-05-03/
END:VEVENT
BEGIN:VEVENT
DTSTART;VALUE=DATE:20290507
DTEND;VALUE=DATE:20290508
DTSTAMP:20260422T180431
CREATED:20250417T133218Z
LAST-MODIFIED:20250417T133218Z
UID:10000215-1872806400-1872892799@crossgatesgolf.com
SUMMARY:Monday Night League
DESCRIPTION:
URL:https://crossgatesgolf.com/event/monday-night-league/2029-05-07/
END:VEVENT
BEGIN:VEVENT
DTSTART;TZID=America/Toronto:20290510T150000
DTEND;TZID=America/Toronto:20290510T170000
DTSTAMP:20260422T180431
CREATED:20250417T133929Z
LAST-MODIFIED:20250417T133929Z
UID:10001257-1873119600-1873126800@crossgatesgolf.com
SUMMARY:$30 Thursdays
DESCRIPTION:
URL:https://crossgatesgolf.com/event/30-thursdays/2029-05-10/
END:VEVENT
BEGIN:VEVENT
DTSTART;TZID=America/Toronto:20290510T173000
DTEND;TZID=America/Toronto:20290510T173000
DTSTAMP:20260422T180431
CREATED:20250417T133403Z
LAST-MODIFIED:20250417T133859Z
UID:10000996-1873128600-1873128600@crossgatesgolf.com
SUMMARY:Thursday Night League
DESCRIPTION:
URL:https://crossgatesgolf.com/event/thursday-night-league/2029-05-10/
END:VEVENT
BEGIN:VEVENT
DTSTART;VALUE=DATE:20290514
DTEND;VALUE=DATE:20290515
DTSTAMP:20260422T180431
CREATED:20250417T133218Z
LAST-MODIFIED:20250417T133218Z
UID:10000216-1873411200-1873497599@crossgatesgolf.com
SUMMARY:Monday Night League
DESCRIPTION:
URL:https://crossgatesgolf.com/event/monday-night-league/2029-05-14/
END:VEVENT
BEGIN:VEVENT
DTSTART;TZID=America/Toronto:20290517T150000
DTEND;TZID=America/Toronto:20290517T170000
DTSTAMP:20260422T180431
CREATED:20250417T133929Z
LAST-MODIFIED:20250417T133929Z
UID:10001258-1873724400-1873731600@crossgatesgolf.com
SUMMARY:$30 Thursdays
DESCRIPTION:
URL:https://crossgatesgolf.com/event/30-thursdays/2029-05-17/
END:VEVENT
BEGIN:VEVENT
DTSTART;TZID=America/Toronto:20290517T173000
DTEND;TZID=America/Toronto:20290517T173000
DTSTAMP:20260422T180431
CREATED:20250417T133403Z
LAST-MODIFIED:20250417T133859Z
UID:10000997-1873733400-1873733400@crossgatesgolf.com
SUMMARY:Thursday Night League
DESCRIPTION:
URL:https://crossgatesgolf.com/event/thursday-night-league/2029-05-17/
END:VEVENT
END:VCALENDAR