BEGIN:VCALENDAR
VERSION:2.0
PRODID:-//Crossgates - ECPv6.15.20//NONSGML v1.0//EN
CALSCALE:GREGORIAN
METHOD:PUBLISH
X-WR-CALNAME:Crossgates
X-ORIGINAL-URL:https://crossgatesgolf.com
X-WR-CALDESC:Events for Crossgates
REFRESH-INTERVAL;VALUE=DURATION:PT1H
X-Robots-Tag:noindex
X-PUBLISHED-TTL:PT1H
BEGIN:VTIMEZONE
TZID:America/Toronto
BEGIN:DAYLIGHT
TZOFFSETFROM:-0500
TZOFFSETTO:-0400
TZNAME:EDT
DTSTART:20280312T070000
END:DAYLIGHT
BEGIN:STANDARD
TZOFFSETFROM:-0400
TZOFFSETTO:-0500
TZNAME:EST
DTSTART:20281105T060000
END:STANDARD
BEGIN:DAYLIGHT
TZOFFSETFROM:-0500
TZOFFSETTO:-0400
TZNAME:EDT
DTSTART:20290311T070000
END:DAYLIGHT
BEGIN:STANDARD
TZOFFSETFROM:-0400
TZOFFSETTO:-0500
TZNAME:EST
DTSTART:20291104T060000
END:STANDARD
BEGIN:DAYLIGHT
TZOFFSETFROM:-0500
TZOFFSETTO:-0400
TZNAME:EDT
DTSTART:20300310T070000
END:DAYLIGHT
BEGIN:STANDARD
TZOFFSETFROM:-0400
TZOFFSETTO:-0500
TZNAME:EST
DTSTART:20301103T060000
END:STANDARD
END:VTIMEZONE
BEGIN:VEVENT
DTSTART;TZID=America/Toronto:20290927T173000
DTEND;TZID=America/Toronto:20290927T173000
DTSTAMP:20260423T064527
CREATED:20250417T133403Z
LAST-MODIFIED:20250417T133859Z
UID:10001016-1885224600-1885224600@crossgatesgolf.com
SUMMARY:Thursday Night League
DESCRIPTION:
URL:https://crossgatesgolf.com/event/thursday-night-league/2029-09-27/
END:VEVENT
BEGIN:VEVENT
DTSTART;VALUE=DATE:20291001
DTEND;VALUE=DATE:20291002
DTSTAMP:20260423T064527
CREATED:20250417T133218Z
LAST-MODIFIED:20250417T133218Z
UID:10000236-1885507200-1885593599@crossgatesgolf.com
SUMMARY:Monday Night League
DESCRIPTION:
URL:https://crossgatesgolf.com/event/monday-night-league/2029-10-01/
END:VEVENT
BEGIN:VEVENT
DTSTART;TZID=America/Toronto:20291004T150000
DTEND;TZID=America/Toronto:20291004T170000
DTSTAMP:20260423T064527
CREATED:20250417T133929Z
LAST-MODIFIED:20250417T133929Z
UID:10001278-1885820400-1885827600@crossgatesgolf.com
SUMMARY:$30 Thursdays
DESCRIPTION:
URL:https://crossgatesgolf.com/event/30-thursdays/2029-10-04/
END:VEVENT
BEGIN:VEVENT
DTSTART;TZID=America/Toronto:20291004T173000
DTEND;TZID=America/Toronto:20291004T173000
DTSTAMP:20260423T064527
CREATED:20250417T133403Z
LAST-MODIFIED:20250417T133859Z
UID:10001017-1885829400-1885829400@crossgatesgolf.com
SUMMARY:Thursday Night League
DESCRIPTION:
URL:https://crossgatesgolf.com/event/thursday-night-league/2029-10-04/
END:VEVENT
BEGIN:VEVENT
DTSTART;VALUE=DATE:20291008
DTEND;VALUE=DATE:20291009
DTSTAMP:20260423T064527
CREATED:20250417T133218Z
LAST-MODIFIED:20250417T133218Z
UID:10000237-1886112000-1886198399@crossgatesgolf.com
SUMMARY:Monday Night League
DESCRIPTION:
URL:https://crossgatesgolf.com/event/monday-night-league/2029-10-08/
END:VEVENT
BEGIN:VEVENT
DTSTART;TZID=America/Toronto:20291011T150000
DTEND;TZID=America/Toronto:20291011T170000
DTSTAMP:20260423T064527
CREATED:20250417T133929Z
LAST-MODIFIED:20250417T133929Z
UID:10001279-1886425200-1886432400@crossgatesgolf.com
SUMMARY:$30 Thursdays
DESCRIPTION:
URL:https://crossgatesgolf.com/event/30-thursdays/2029-10-11/
END:VEVENT
BEGIN:VEVENT
DTSTART;TZID=America/Toronto:20291011T173000
DTEND;TZID=America/Toronto:20291011T173000
DTSTAMP:20260423T064528
CREATED:20250417T133403Z
LAST-MODIFIED:20250417T133859Z
UID:10001018-1886434200-1886434200@crossgatesgolf.com
SUMMARY:Thursday Night League
DESCRIPTION:
URL:https://crossgatesgolf.com/event/thursday-night-league/2029-10-11/
END:VEVENT
BEGIN:VEVENT
DTSTART;VALUE=DATE:20291015
DTEND;VALUE=DATE:20291016
DTSTAMP:20260423T064528
CREATED:20250417T133218Z
LAST-MODIFIED:20250417T133218Z
UID:10000238-1886716800-1886803199@crossgatesgolf.com
SUMMARY:Monday Night League
DESCRIPTION:
URL:https://crossgatesgolf.com/event/monday-night-league/2029-10-15/
END:VEVENT
BEGIN:VEVENT
DTSTART;TZID=America/Toronto:20291018T150000
DTEND;TZID=America/Toronto:20291018T170000
DTSTAMP:20260423T064528
CREATED:20250417T133929Z
LAST-MODIFIED:20250417T133929Z
UID:10001280-1887030000-1887037200@crossgatesgolf.com
SUMMARY:$30 Thursdays
DESCRIPTION:
URL:https://crossgatesgolf.com/event/30-thursdays/2029-10-18/
END:VEVENT
BEGIN:VEVENT
DTSTART;TZID=America/Toronto:20291018T173000
DTEND;TZID=America/Toronto:20291018T173000
DTSTAMP:20260423T064528
CREATED:20250417T133403Z
LAST-MODIFIED:20250417T133859Z
UID:10001019-1887039000-1887039000@crossgatesgolf.com
SUMMARY:Thursday Night League
DESCRIPTION:
URL:https://crossgatesgolf.com/event/thursday-night-league/2029-10-18/
END:VEVENT
BEGIN:VEVENT
DTSTART;VALUE=DATE:20291022
DTEND;VALUE=DATE:20291023
DTSTAMP:20260423T064528
CREATED:20250417T133218Z
LAST-MODIFIED:20250417T133218Z
UID:10000239-1887321600-1887407999@crossgatesgolf.com
SUMMARY:Monday Night League
DESCRIPTION:
URL:https://crossgatesgolf.com/event/monday-night-league/2029-10-22/
END:VEVENT
BEGIN:VEVENT
DTSTART;TZID=America/Toronto:20291025T150000
DTEND;TZID=America/Toronto:20291025T170000
DTSTAMP:20260423T064528
CREATED:20250417T133929Z
LAST-MODIFIED:20250417T133929Z
UID:10001281-1887634800-1887642000@crossgatesgolf.com
SUMMARY:$30 Thursdays
DESCRIPTION:
URL:https://crossgatesgolf.com/event/30-thursdays/2029-10-25/
END:VEVENT
BEGIN:VEVENT
DTSTART;TZID=America/Toronto:20291025T173000
DTEND;TZID=America/Toronto:20291025T173000
DTSTAMP:20260423T064528
CREATED:20250417T133403Z
LAST-MODIFIED:20250417T133859Z
UID:10001020-1887643800-1887643800@crossgatesgolf.com
SUMMARY:Thursday Night League
DESCRIPTION:
URL:https://crossgatesgolf.com/event/thursday-night-league/2029-10-25/
END:VEVENT
BEGIN:VEVENT
DTSTART;VALUE=DATE:20291029
DTEND;VALUE=DATE:20291030
DTSTAMP:20260423T064528
CREATED:20250417T133218Z
LAST-MODIFIED:20250417T133218Z
UID:10000240-1887926400-1888012799@crossgatesgolf.com
SUMMARY:Monday Night League
DESCRIPTION:
URL:https://crossgatesgolf.com/event/monday-night-league/2029-10-29/
END:VEVENT
BEGIN:VEVENT
DTSTART;TZID=America/Toronto:20291101T150000
DTEND;TZID=America/Toronto:20291101T170000
DTSTAMP:20260423T064528
CREATED:20250417T133929Z
LAST-MODIFIED:20250417T133929Z
UID:10001282-1888239600-1888246800@crossgatesgolf.com
SUMMARY:$30 Thursdays
DESCRIPTION:
URL:https://crossgatesgolf.com/event/30-thursdays/2029-11-01/
END:VEVENT
BEGIN:VEVENT
DTSTART;TZID=America/Toronto:20291101T173000
DTEND;TZID=America/Toronto:20291101T173000
DTSTAMP:20260423T064528
CREATED:20250417T133403Z
LAST-MODIFIED:20250417T133859Z
UID:10001021-1888248600-1888248600@crossgatesgolf.com
SUMMARY:Thursday Night League
DESCRIPTION:
URL:https://crossgatesgolf.com/event/thursday-night-league/2029-11-01/
END:VEVENT
BEGIN:VEVENT
DTSTART;VALUE=DATE:20291105
DTEND;VALUE=DATE:20291106
DTSTAMP:20260423T064528
CREATED:20250417T133218Z
LAST-MODIFIED:20250417T133218Z
UID:10000241-1888531200-1888617599@crossgatesgolf.com
SUMMARY:Monday Night League
DESCRIPTION:
URL:https://crossgatesgolf.com/event/monday-night-league/2029-11-05/
END:VEVENT
BEGIN:VEVENT
DTSTART;TZID=America/Toronto:20291108T150000
DTEND;TZID=America/Toronto:20291108T170000
DTSTAMP:20260423T064528
CREATED:20250417T133929Z
LAST-MODIFIED:20250417T133929Z
UID:10001283-1888844400-1888851600@crossgatesgolf.com
SUMMARY:$30 Thursdays
DESCRIPTION:
URL:https://crossgatesgolf.com/event/30-thursdays/2029-11-08/
END:VEVENT
BEGIN:VEVENT
DTSTART;TZID=America/Toronto:20291108T173000
DTEND;TZID=America/Toronto:20291108T173000
DTSTAMP:20260423T064528
CREATED:20250417T133403Z
LAST-MODIFIED:20250417T133859Z
UID:10001022-1888853400-1888853400@crossgatesgolf.com
SUMMARY:Thursday Night League
DESCRIPTION:
URL:https://crossgatesgolf.com/event/thursday-night-league/2029-11-08/
END:VEVENT
BEGIN:VEVENT
DTSTART;VALUE=DATE:20291112
DTEND;VALUE=DATE:20291113
DTSTAMP:20260423T064528
CREATED:20250417T133218Z
LAST-MODIFIED:20250417T133218Z
UID:10000242-1889136000-1889222399@crossgatesgolf.com
SUMMARY:Monday Night League
DESCRIPTION:
URL:https://crossgatesgolf.com/event/monday-night-league/2029-11-12/
END:VEVENT
BEGIN:VEVENT
DTSTART;TZID=America/Toronto:20291115T150000
DTEND;TZID=America/Toronto:20291115T170000
DTSTAMP:20260423T064528
CREATED:20250417T133929Z
LAST-MODIFIED:20250417T133929Z
UID:10001284-1889449200-1889456400@crossgatesgolf.com
SUMMARY:$30 Thursdays
DESCRIPTION:
URL:https://crossgatesgolf.com/event/30-thursdays/2029-11-15/
END:VEVENT
BEGIN:VEVENT
DTSTART;TZID=America/Toronto:20291115T173000
DTEND;TZID=America/Toronto:20291115T173000
DTSTAMP:20260423T064528
CREATED:20250417T133403Z
LAST-MODIFIED:20250417T133859Z
UID:10001023-1889458200-1889458200@crossgatesgolf.com
SUMMARY:Thursday Night League
DESCRIPTION:
URL:https://crossgatesgolf.com/event/thursday-night-league/2029-11-15/
END:VEVENT
BEGIN:VEVENT
DTSTART;VALUE=DATE:20291119
DTEND;VALUE=DATE:20291120
DTSTAMP:20260423T064528
CREATED:20250417T133218Z
LAST-MODIFIED:20250417T133218Z
UID:10000243-1889740800-1889827199@crossgatesgolf.com
SUMMARY:Monday Night League
DESCRIPTION:
URL:https://crossgatesgolf.com/event/monday-night-league/2029-11-19/
END:VEVENT
BEGIN:VEVENT
DTSTART;TZID=America/Toronto:20291122T150000
DTEND;TZID=America/Toronto:20291122T170000
DTSTAMP:20260423T064528
CREATED:20250417T133929Z
LAST-MODIFIED:20250417T133929Z
UID:10001285-1890054000-1890061200@crossgatesgolf.com
SUMMARY:$30 Thursdays
DESCRIPTION:
URL:https://crossgatesgolf.com/event/30-thursdays/2029-11-22/
END:VEVENT
BEGIN:VEVENT
DTSTART;TZID=America/Toronto:20291122T173000
DTEND;TZID=America/Toronto:20291122T173000
DTSTAMP:20260423T064528
CREATED:20250417T133403Z
LAST-MODIFIED:20250417T133859Z
UID:10001024-1890063000-1890063000@crossgatesgolf.com
SUMMARY:Thursday Night League
DESCRIPTION:
URL:https://crossgatesgolf.com/event/thursday-night-league/2029-11-22/
END:VEVENT
BEGIN:VEVENT
DTSTART;VALUE=DATE:20291126
DTEND;VALUE=DATE:20291127
DTSTAMP:20260423T064528
CREATED:20250417T133218Z
LAST-MODIFIED:20250417T133218Z
UID:10000244-1890345600-1890431999@crossgatesgolf.com
SUMMARY:Monday Night League
DESCRIPTION:
URL:https://crossgatesgolf.com/event/monday-night-league/2029-11-26/
END:VEVENT
BEGIN:VEVENT
DTSTART;TZID=America/Toronto:20291129T150000
DTEND;TZID=America/Toronto:20291129T170000
DTSTAMP:20260423T064528
CREATED:20250417T133929Z
LAST-MODIFIED:20250417T133929Z
UID:10001286-1890658800-1890666000@crossgatesgolf.com
SUMMARY:$30 Thursdays
DESCRIPTION:
URL:https://crossgatesgolf.com/event/30-thursdays/2029-11-29/
END:VEVENT
BEGIN:VEVENT
DTSTART;TZID=America/Toronto:20291129T173000
DTEND;TZID=America/Toronto:20291129T173000
DTSTAMP:20260423T064528
CREATED:20250417T133403Z
LAST-MODIFIED:20250417T133859Z
UID:10001025-1890667800-1890667800@crossgatesgolf.com
SUMMARY:Thursday Night League
DESCRIPTION:
URL:https://crossgatesgolf.com/event/thursday-night-league/2029-11-29/
END:VEVENT
BEGIN:VEVENT
DTSTART;VALUE=DATE:20291203
DTEND;VALUE=DATE:20291204
DTSTAMP:20260423T064528
CREATED:20250417T133218Z
LAST-MODIFIED:20250417T133218Z
UID:10000245-1890950400-1891036799@crossgatesgolf.com
SUMMARY:Monday Night League
DESCRIPTION:
URL:https://crossgatesgolf.com/event/monday-night-league/2029-12-03/
END:VEVENT
BEGIN:VEVENT
DTSTART;TZID=America/Toronto:20291206T150000
DTEND;TZID=America/Toronto:20291206T170000
DTSTAMP:20260423T064528
CREATED:20250417T133929Z
LAST-MODIFIED:20250417T133929Z
UID:10001287-1891263600-1891270800@crossgatesgolf.com
SUMMARY:$30 Thursdays
DESCRIPTION:
URL:https://crossgatesgolf.com/event/30-thursdays/2029-12-06/
END:VEVENT
END:VCALENDAR