BEGIN:VCALENDAR
VERSION:2.0
PRODID:-//Crossgates - ECPv6.15.20//NONSGML v1.0//EN
CALSCALE:GREGORIAN
METHOD:PUBLISH
X-WR-CALNAME:Crossgates
X-ORIGINAL-URL:https://crossgatesgolf.com
X-WR-CALDESC:Events for Crossgates
REFRESH-INTERVAL;VALUE=DURATION:PT1H
X-Robots-Tag:noindex
X-PUBLISHED-TTL:PT1H
BEGIN:VTIMEZONE
TZID:America/Toronto
BEGIN:DAYLIGHT
TZOFFSETFROM:-0500
TZOFFSETTO:-0400
TZNAME:EDT
DTSTART:20290311T070000
END:DAYLIGHT
BEGIN:STANDARD
TZOFFSETFROM:-0400
TZOFFSETTO:-0500
TZNAME:EST
DTSTART:20291104T060000
END:STANDARD
BEGIN:DAYLIGHT
TZOFFSETFROM:-0500
TZOFFSETTO:-0400
TZNAME:EDT
DTSTART:20300310T070000
END:DAYLIGHT
BEGIN:STANDARD
TZOFFSETFROM:-0400
TZOFFSETTO:-0500
TZNAME:EST
DTSTART:20301103T060000
END:STANDARD
BEGIN:DAYLIGHT
TZOFFSETFROM:-0500
TZOFFSETTO:-0400
TZNAME:EDT
DTSTART:20310309T070000
END:DAYLIGHT
BEGIN:STANDARD
TZOFFSETFROM:-0400
TZOFFSETTO:-0500
TZNAME:EST
DTSTART:20311102T060000
END:STANDARD
END:VTIMEZONE
BEGIN:VEVENT
DTSTART;TZID=America/Toronto:20300110T173000
DTEND;TZID=America/Toronto:20300110T173000
DTSTAMP:20260422T224953
CREATED:20250417T133403Z
LAST-MODIFIED:20250417T133859Z
UID:10001031-1894296600-1894296600@crossgatesgolf.com
SUMMARY:Thursday Night League
DESCRIPTION:
URL:https://crossgatesgolf.com/event/thursday-night-league/2030-01-10/
END:VEVENT
BEGIN:VEVENT
DTSTART;VALUE=DATE:20300114
DTEND;VALUE=DATE:20300115
DTSTAMP:20260422T224953
CREATED:20250417T133218Z
LAST-MODIFIED:20250417T133218Z
UID:10000251-1894579200-1894665599@crossgatesgolf.com
SUMMARY:Monday Night League
DESCRIPTION:
URL:https://crossgatesgolf.com/event/monday-night-league/2030-01-14/
END:VEVENT
BEGIN:VEVENT
DTSTART;TZID=America/Toronto:20300117T150000
DTEND;TZID=America/Toronto:20300117T170000
DTSTAMP:20260422T224954
CREATED:20250417T133929Z
LAST-MODIFIED:20250417T133929Z
UID:10001293-1894892400-1894899600@crossgatesgolf.com
SUMMARY:$30 Thursdays
DESCRIPTION:
URL:https://crossgatesgolf.com/event/30-thursdays/2030-01-17/
END:VEVENT
BEGIN:VEVENT
DTSTART;TZID=America/Toronto:20300117T173000
DTEND;TZID=America/Toronto:20300117T173000
DTSTAMP:20260422T224954
CREATED:20250417T133403Z
LAST-MODIFIED:20250417T133859Z
UID:10001032-1894901400-1894901400@crossgatesgolf.com
SUMMARY:Thursday Night League
DESCRIPTION:
URL:https://crossgatesgolf.com/event/thursday-night-league/2030-01-17/
END:VEVENT
BEGIN:VEVENT
DTSTART;VALUE=DATE:20300121
DTEND;VALUE=DATE:20300122
DTSTAMP:20260422T224954
CREATED:20250417T133218Z
LAST-MODIFIED:20250417T133218Z
UID:10000252-1895184000-1895270399@crossgatesgolf.com
SUMMARY:Monday Night League
DESCRIPTION:
URL:https://crossgatesgolf.com/event/monday-night-league/2030-01-21/
END:VEVENT
BEGIN:VEVENT
DTSTART;TZID=America/Toronto:20300124T150000
DTEND;TZID=America/Toronto:20300124T170000
DTSTAMP:20260422T224954
CREATED:20250417T133929Z
LAST-MODIFIED:20250417T133929Z
UID:10001294-1895497200-1895504400@crossgatesgolf.com
SUMMARY:$30 Thursdays
DESCRIPTION:
URL:https://crossgatesgolf.com/event/30-thursdays/2030-01-24/
END:VEVENT
BEGIN:VEVENT
DTSTART;TZID=America/Toronto:20300124T173000
DTEND;TZID=America/Toronto:20300124T173000
DTSTAMP:20260422T224954
CREATED:20250417T133403Z
LAST-MODIFIED:20250417T133859Z
UID:10001033-1895506200-1895506200@crossgatesgolf.com
SUMMARY:Thursday Night League
DESCRIPTION:
URL:https://crossgatesgolf.com/event/thursday-night-league/2030-01-24/
END:VEVENT
BEGIN:VEVENT
DTSTART;VALUE=DATE:20300128
DTEND;VALUE=DATE:20300129
DTSTAMP:20260422T224954
CREATED:20250417T133218Z
LAST-MODIFIED:20250417T133218Z
UID:10000253-1895788800-1895875199@crossgatesgolf.com
SUMMARY:Monday Night League
DESCRIPTION:
URL:https://crossgatesgolf.com/event/monday-night-league/2030-01-28/
END:VEVENT
BEGIN:VEVENT
DTSTART;TZID=America/Toronto:20300131T150000
DTEND;TZID=America/Toronto:20300131T170000
DTSTAMP:20260422T224954
CREATED:20250417T133929Z
LAST-MODIFIED:20250417T133929Z
UID:10001295-1896102000-1896109200@crossgatesgolf.com
SUMMARY:$30 Thursdays
DESCRIPTION:
URL:https://crossgatesgolf.com/event/30-thursdays/2030-01-31/
END:VEVENT
BEGIN:VEVENT
DTSTART;TZID=America/Toronto:20300131T173000
DTEND;TZID=America/Toronto:20300131T173000
DTSTAMP:20260422T224954
CREATED:20250417T133403Z
LAST-MODIFIED:20250417T133859Z
UID:10001034-1896111000-1896111000@crossgatesgolf.com
SUMMARY:Thursday Night League
DESCRIPTION:
URL:https://crossgatesgolf.com/event/thursday-night-league/2030-01-31/
END:VEVENT
BEGIN:VEVENT
DTSTART;VALUE=DATE:20300204
DTEND;VALUE=DATE:20300205
DTSTAMP:20260422T224954
CREATED:20250417T133218Z
LAST-MODIFIED:20250417T133218Z
UID:10000254-1896393600-1896479999@crossgatesgolf.com
SUMMARY:Monday Night League
DESCRIPTION:
URL:https://crossgatesgolf.com/event/monday-night-league/2030-02-04/
END:VEVENT
BEGIN:VEVENT
DTSTART;TZID=America/Toronto:20300207T150000
DTEND;TZID=America/Toronto:20300207T170000
DTSTAMP:20260422T224954
CREATED:20250417T133929Z
LAST-MODIFIED:20250417T133929Z
UID:10001296-1896706800-1896714000@crossgatesgolf.com
SUMMARY:$30 Thursdays
DESCRIPTION:
URL:https://crossgatesgolf.com/event/30-thursdays/2030-02-07/
END:VEVENT
BEGIN:VEVENT
DTSTART;TZID=America/Toronto:20300207T173000
DTEND;TZID=America/Toronto:20300207T173000
DTSTAMP:20260422T224954
CREATED:20250417T133403Z
LAST-MODIFIED:20250417T133859Z
UID:10001035-1896715800-1896715800@crossgatesgolf.com
SUMMARY:Thursday Night League
DESCRIPTION:
URL:https://crossgatesgolf.com/event/thursday-night-league/2030-02-07/
END:VEVENT
BEGIN:VEVENT
DTSTART;VALUE=DATE:20300211
DTEND;VALUE=DATE:20300212
DTSTAMP:20260422T224954
CREATED:20250417T133218Z
LAST-MODIFIED:20250417T133218Z
UID:10000255-1896998400-1897084799@crossgatesgolf.com
SUMMARY:Monday Night League
DESCRIPTION:
URL:https://crossgatesgolf.com/event/monday-night-league/2030-02-11/
END:VEVENT
BEGIN:VEVENT
DTSTART;TZID=America/Toronto:20300214T150000
DTEND;TZID=America/Toronto:20300214T170000
DTSTAMP:20260422T224954
CREATED:20250417T133929Z
LAST-MODIFIED:20250417T133929Z
UID:10001297-1897311600-1897318800@crossgatesgolf.com
SUMMARY:$30 Thursdays
DESCRIPTION:
URL:https://crossgatesgolf.com/event/30-thursdays/2030-02-14/
END:VEVENT
BEGIN:VEVENT
DTSTART;TZID=America/Toronto:20300214T173000
DTEND;TZID=America/Toronto:20300214T173000
DTSTAMP:20260422T224954
CREATED:20250417T133403Z
LAST-MODIFIED:20250417T133859Z
UID:10001036-1897320600-1897320600@crossgatesgolf.com
SUMMARY:Thursday Night League
DESCRIPTION:
URL:https://crossgatesgolf.com/event/thursday-night-league/2030-02-14/
END:VEVENT
BEGIN:VEVENT
DTSTART;VALUE=DATE:20300218
DTEND;VALUE=DATE:20300219
DTSTAMP:20260422T224954
CREATED:20250417T133218Z
LAST-MODIFIED:20250417T133218Z
UID:10000256-1897603200-1897689599@crossgatesgolf.com
SUMMARY:Monday Night League
DESCRIPTION:
URL:https://crossgatesgolf.com/event/monday-night-league/2030-02-18/
END:VEVENT
BEGIN:VEVENT
DTSTART;TZID=America/Toronto:20300221T150000
DTEND;TZID=America/Toronto:20300221T170000
DTSTAMP:20260422T224954
CREATED:20250417T133929Z
LAST-MODIFIED:20250417T133929Z
UID:10001298-1897916400-1897923600@crossgatesgolf.com
SUMMARY:$30 Thursdays
DESCRIPTION:
URL:https://crossgatesgolf.com/event/30-thursdays/2030-02-21/
END:VEVENT
BEGIN:VEVENT
DTSTART;TZID=America/Toronto:20300221T173000
DTEND;TZID=America/Toronto:20300221T173000
DTSTAMP:20260422T224954
CREATED:20250417T133403Z
LAST-MODIFIED:20250417T133859Z
UID:10001037-1897925400-1897925400@crossgatesgolf.com
SUMMARY:Thursday Night League
DESCRIPTION:
URL:https://crossgatesgolf.com/event/thursday-night-league/2030-02-21/
END:VEVENT
BEGIN:VEVENT
DTSTART;VALUE=DATE:20300225
DTEND;VALUE=DATE:20300226
DTSTAMP:20260422T224954
CREATED:20250417T133218Z
LAST-MODIFIED:20250417T133218Z
UID:10000257-1898208000-1898294399@crossgatesgolf.com
SUMMARY:Monday Night League
DESCRIPTION:
URL:https://crossgatesgolf.com/event/monday-night-league/2030-02-25/
END:VEVENT
BEGIN:VEVENT
DTSTART;TZID=America/Toronto:20300228T150000
DTEND;TZID=America/Toronto:20300228T170000
DTSTAMP:20260422T224954
CREATED:20250417T133929Z
LAST-MODIFIED:20250417T133929Z
UID:10001299-1898521200-1898528400@crossgatesgolf.com
SUMMARY:$30 Thursdays
DESCRIPTION:
URL:https://crossgatesgolf.com/event/30-thursdays/2030-02-28/
END:VEVENT
BEGIN:VEVENT
DTSTART;TZID=America/Toronto:20300228T173000
DTEND;TZID=America/Toronto:20300228T173000
DTSTAMP:20260422T224954
CREATED:20250417T133403Z
LAST-MODIFIED:20250417T133859Z
UID:10001038-1898530200-1898530200@crossgatesgolf.com
SUMMARY:Thursday Night League
DESCRIPTION:
URL:https://crossgatesgolf.com/event/thursday-night-league/2030-02-28/
END:VEVENT
BEGIN:VEVENT
DTSTART;VALUE=DATE:20300304
DTEND;VALUE=DATE:20300305
DTSTAMP:20260422T224954
CREATED:20250417T133218Z
LAST-MODIFIED:20250417T133218Z
UID:10000258-1898812800-1898899199@crossgatesgolf.com
SUMMARY:Monday Night League
DESCRIPTION:
URL:https://crossgatesgolf.com/event/monday-night-league/2030-03-04/
END:VEVENT
BEGIN:VEVENT
DTSTART;TZID=America/Toronto:20300307T150000
DTEND;TZID=America/Toronto:20300307T170000
DTSTAMP:20260422T224954
CREATED:20250417T133929Z
LAST-MODIFIED:20250417T133929Z
UID:10001300-1899126000-1899133200@crossgatesgolf.com
SUMMARY:$30 Thursdays
DESCRIPTION:
URL:https://crossgatesgolf.com/event/30-thursdays/2030-03-07/
END:VEVENT
BEGIN:VEVENT
DTSTART;TZID=America/Toronto:20300307T173000
DTEND;TZID=America/Toronto:20300307T173000
DTSTAMP:20260422T224954
CREATED:20250417T133403Z
LAST-MODIFIED:20250417T133859Z
UID:10001039-1899135000-1899135000@crossgatesgolf.com
SUMMARY:Thursday Night League
DESCRIPTION:
URL:https://crossgatesgolf.com/event/thursday-night-league/2030-03-07/
END:VEVENT
BEGIN:VEVENT
DTSTART;VALUE=DATE:20300311
DTEND;VALUE=DATE:20300312
DTSTAMP:20260422T224954
CREATED:20250417T133218Z
LAST-MODIFIED:20250417T133218Z
UID:10000259-1899417600-1899503999@crossgatesgolf.com
SUMMARY:Monday Night League
DESCRIPTION:
URL:https://crossgatesgolf.com/event/monday-night-league/2030-03-11/
END:VEVENT
BEGIN:VEVENT
DTSTART;TZID=America/Toronto:20300314T150000
DTEND;TZID=America/Toronto:20300314T170000
DTSTAMP:20260422T224954
CREATED:20250417T133929Z
LAST-MODIFIED:20250417T133929Z
UID:10001301-1899730800-1899738000@crossgatesgolf.com
SUMMARY:$30 Thursdays
DESCRIPTION:
URL:https://crossgatesgolf.com/event/30-thursdays/2030-03-14/
END:VEVENT
BEGIN:VEVENT
DTSTART;TZID=America/Toronto:20300314T173000
DTEND;TZID=America/Toronto:20300314T173000
DTSTAMP:20260422T224954
CREATED:20250417T133403Z
LAST-MODIFIED:20250417T133859Z
UID:10001040-1899739800-1899739800@crossgatesgolf.com
SUMMARY:Thursday Night League
DESCRIPTION:
URL:https://crossgatesgolf.com/event/thursday-night-league/2030-03-14/
END:VEVENT
BEGIN:VEVENT
DTSTART;VALUE=DATE:20300318
DTEND;VALUE=DATE:20300319
DTSTAMP:20260422T224954
CREATED:20250417T133218Z
LAST-MODIFIED:20250417T133218Z
UID:10000260-1900022400-1900108799@crossgatesgolf.com
SUMMARY:Monday Night League
DESCRIPTION:
URL:https://crossgatesgolf.com/event/monday-night-league/2030-03-18/
END:VEVENT
BEGIN:VEVENT
DTSTART;TZID=America/Toronto:20300321T150000
DTEND;TZID=America/Toronto:20300321T170000
DTSTAMP:20260422T224954
CREATED:20250417T133929Z
LAST-MODIFIED:20250417T133929Z
UID:10001302-1900335600-1900342800@crossgatesgolf.com
SUMMARY:$30 Thursdays
DESCRIPTION:
URL:https://crossgatesgolf.com/event/30-thursdays/2030-03-21/
END:VEVENT
END:VCALENDAR