BEGIN:VCALENDAR
VERSION:2.0
PRODID:-//Crossgates - ECPv6.15.20//NONSGML v1.0//EN
CALSCALE:GREGORIAN
METHOD:PUBLISH
X-ORIGINAL-URL:https://crossgatesgolf.com
X-WR-CALDESC:Events for Crossgates
REFRESH-INTERVAL;VALUE=DURATION:PT1H
X-Robots-Tag:noindex
X-PUBLISHED-TTL:PT1H
BEGIN:VTIMEZONE
TZID:America/Toronto
BEGIN:DAYLIGHT
TZOFFSETFROM:-0500
TZOFFSETTO:-0400
TZNAME:EDT
DTSTART:20260308T070000
END:DAYLIGHT
BEGIN:STANDARD
TZOFFSETFROM:-0400
TZOFFSETTO:-0500
TZNAME:EST
DTSTART:20261101T060000
END:STANDARD
BEGIN:DAYLIGHT
TZOFFSETFROM:-0500
TZOFFSETTO:-0400
TZNAME:EDT
DTSTART:20270314T070000
END:DAYLIGHT
BEGIN:STANDARD
TZOFFSETFROM:-0400
TZOFFSETTO:-0500
TZNAME:EST
DTSTART:20271107T060000
END:STANDARD
BEGIN:DAYLIGHT
TZOFFSETFROM:-0500
TZOFFSETTO:-0400
TZNAME:EDT
DTSTART:20280312T070000
END:DAYLIGHT
BEGIN:STANDARD
TZOFFSETFROM:-0400
TZOFFSETTO:-0500
TZNAME:EST
DTSTART:20281105T060000
END:STANDARD
END:VTIMEZONE
BEGIN:VEVENT
DTSTART;VALUE=DATE:20270201
DTEND;VALUE=DATE:20270202
DTSTAMP:20260421T100216
CREATED:20250417T133218Z
LAST-MODIFIED:20250417T133218Z
UID:10000097-1801440000-1801526399@crossgatesgolf.com
SUMMARY:Monday Night League
DESCRIPTION:
URL:https://crossgatesgolf.com/event/monday-night-league/2027-02-01/
END:VEVENT
BEGIN:VEVENT
DTSTART;TZID=America/Toronto:20270204T150000
DTEND;TZID=America/Toronto:20270204T170000
DTSTAMP:20260421T100216
CREATED:20250417T133929Z
LAST-MODIFIED:20250417T133929Z
UID:10001139-1801753200-1801760400@crossgatesgolf.com
SUMMARY:$30 Thursdays
DESCRIPTION:
URL:https://crossgatesgolf.com/event/30-thursdays/2027-02-04/
END:VEVENT
BEGIN:VEVENT
DTSTART;TZID=America/Toronto:20270204T173000
DTEND;TZID=America/Toronto:20270204T173000
DTSTAMP:20260421T100216
CREATED:20250417T133403Z
LAST-MODIFIED:20250417T133859Z
UID:10000878-1801762200-1801762200@crossgatesgolf.com
SUMMARY:Thursday Night League
DESCRIPTION:
URL:https://crossgatesgolf.com/event/thursday-night-league/2027-02-04/
END:VEVENT
BEGIN:VEVENT
DTSTART;VALUE=DATE:20270208
DTEND;VALUE=DATE:20270209
DTSTAMP:20260421T100216
CREATED:20250417T133218Z
LAST-MODIFIED:20250417T133218Z
UID:10000098-1802044800-1802131199@crossgatesgolf.com
SUMMARY:Monday Night League
DESCRIPTION:
URL:https://crossgatesgolf.com/event/monday-night-league/2027-02-08/
END:VEVENT
BEGIN:VEVENT
DTSTART;TZID=America/Toronto:20270211T150000
DTEND;TZID=America/Toronto:20270211T170000
DTSTAMP:20260421T100216
CREATED:20250417T133929Z
LAST-MODIFIED:20250417T133929Z
UID:10001140-1802358000-1802365200@crossgatesgolf.com
SUMMARY:$30 Thursdays
DESCRIPTION:
URL:https://crossgatesgolf.com/event/30-thursdays/2027-02-11/
END:VEVENT
BEGIN:VEVENT
DTSTART;TZID=America/Toronto:20270211T173000
DTEND;TZID=America/Toronto:20270211T173000
DTSTAMP:20260421T100216
CREATED:20250417T133403Z
LAST-MODIFIED:20250417T133859Z
UID:10000879-1802367000-1802367000@crossgatesgolf.com
SUMMARY:Thursday Night League
DESCRIPTION:
URL:https://crossgatesgolf.com/event/thursday-night-league/2027-02-11/
END:VEVENT
BEGIN:VEVENT
DTSTART;VALUE=DATE:20270215
DTEND;VALUE=DATE:20270216
DTSTAMP:20260421T100216
CREATED:20250417T133218Z
LAST-MODIFIED:20250417T133218Z
UID:10000099-1802649600-1802735999@crossgatesgolf.com
SUMMARY:Monday Night League
DESCRIPTION:
URL:https://crossgatesgolf.com/event/monday-night-league/2027-02-15/
END:VEVENT
BEGIN:VEVENT
DTSTART;TZID=America/Toronto:20270218T150000
DTEND;TZID=America/Toronto:20270218T170000
DTSTAMP:20260421T100216
CREATED:20250417T133929Z
LAST-MODIFIED:20250417T133929Z
UID:10001141-1802962800-1802970000@crossgatesgolf.com
SUMMARY:$30 Thursdays
DESCRIPTION:
URL:https://crossgatesgolf.com/event/30-thursdays/2027-02-18/
END:VEVENT
BEGIN:VEVENT
DTSTART;TZID=America/Toronto:20270218T173000
DTEND;TZID=America/Toronto:20270218T173000
DTSTAMP:20260421T100216
CREATED:20250417T133403Z
LAST-MODIFIED:20250417T133859Z
UID:10000880-1802971800-1802971800@crossgatesgolf.com
SUMMARY:Thursday Night League
DESCRIPTION:
URL:https://crossgatesgolf.com/event/thursday-night-league/2027-02-18/
END:VEVENT
BEGIN:VEVENT
DTSTART;VALUE=DATE:20270222
DTEND;VALUE=DATE:20270223
DTSTAMP:20260421T100216
CREATED:20250417T133218Z
LAST-MODIFIED:20250417T133218Z
UID:10000100-1803254400-1803340799@crossgatesgolf.com
SUMMARY:Monday Night League
DESCRIPTION:
URL:https://crossgatesgolf.com/event/monday-night-league/2027-02-22/
END:VEVENT
BEGIN:VEVENT
DTSTART;TZID=America/Toronto:20270225T150000
DTEND;TZID=America/Toronto:20270225T170000
DTSTAMP:20260421T100216
CREATED:20250417T133929Z
LAST-MODIFIED:20250417T133929Z
UID:10001142-1803567600-1803574800@crossgatesgolf.com
SUMMARY:$30 Thursdays
DESCRIPTION:
URL:https://crossgatesgolf.com/event/30-thursdays/2027-02-25/
END:VEVENT
BEGIN:VEVENT
DTSTART;TZID=America/Toronto:20270225T173000
DTEND;TZID=America/Toronto:20270225T173000
DTSTAMP:20260421T100216
CREATED:20250417T133403Z
LAST-MODIFIED:20250417T133859Z
UID:10000881-1803576600-1803576600@crossgatesgolf.com
SUMMARY:Thursday Night League
DESCRIPTION:
URL:https://crossgatesgolf.com/event/thursday-night-league/2027-02-25/
END:VEVENT
END:VCALENDAR