BEGIN:VCALENDAR
VERSION:2.0
PRODID:-//Crossgates - ECPv6.15.20//NONSGML v1.0//EN
CALSCALE:GREGORIAN
METHOD:PUBLISH
X-ORIGINAL-URL:https://crossgatesgolf.com
X-WR-CALDESC:Events for Crossgates
REFRESH-INTERVAL;VALUE=DURATION:PT1H
X-Robots-Tag:noindex
X-PUBLISHED-TTL:PT1H
BEGIN:VTIMEZONE
TZID:America/Toronto
BEGIN:DAYLIGHT
TZOFFSETFROM:-0500
TZOFFSETTO:-0400
TZNAME:EDT
DTSTART:20270314T070000
END:DAYLIGHT
BEGIN:STANDARD
TZOFFSETFROM:-0400
TZOFFSETTO:-0500
TZNAME:EST
DTSTART:20271107T060000
END:STANDARD
BEGIN:DAYLIGHT
TZOFFSETFROM:-0500
TZOFFSETTO:-0400
TZNAME:EDT
DTSTART:20280312T070000
END:DAYLIGHT
BEGIN:STANDARD
TZOFFSETFROM:-0400
TZOFFSETTO:-0500
TZNAME:EST
DTSTART:20281105T060000
END:STANDARD
BEGIN:DAYLIGHT
TZOFFSETFROM:-0500
TZOFFSETTO:-0400
TZNAME:EDT
DTSTART:20290311T070000
END:DAYLIGHT
BEGIN:STANDARD
TZOFFSETFROM:-0400
TZOFFSETTO:-0500
TZNAME:EST
DTSTART:20291104T060000
END:STANDARD
END:VTIMEZONE
BEGIN:VEVENT
DTSTART;VALUE=DATE:20280703
DTEND;VALUE=DATE:20280704
DTSTAMP:20260423T115537
CREATED:20250417T133218Z
LAST-MODIFIED:20250417T133218Z
UID:10000171-1846195200-1846281599@crossgatesgolf.com
SUMMARY:Monday Night League
DESCRIPTION:
URL:https://crossgatesgolf.com/event/monday-night-league/2028-07-03/
END:VEVENT
BEGIN:VEVENT
DTSTART;TZID=America/Toronto:20280706T150000
DTEND;TZID=America/Toronto:20280706T170000
DTSTAMP:20260423T115537
CREATED:20250417T133929Z
LAST-MODIFIED:20250417T133929Z
UID:10001213-1846508400-1846515600@crossgatesgolf.com
SUMMARY:$30 Thursdays
DESCRIPTION:
URL:https://crossgatesgolf.com/event/30-thursdays/2028-07-06/
END:VEVENT
BEGIN:VEVENT
DTSTART;TZID=America/Toronto:20280706T173000
DTEND;TZID=America/Toronto:20280706T173000
DTSTAMP:20260423T115537
CREATED:20250417T133403Z
LAST-MODIFIED:20250417T133859Z
UID:10000952-1846517400-1846517400@crossgatesgolf.com
SUMMARY:Thursday Night League
DESCRIPTION:
URL:https://crossgatesgolf.com/event/thursday-night-league/2028-07-06/
END:VEVENT
BEGIN:VEVENT
DTSTART;VALUE=DATE:20280710
DTEND;VALUE=DATE:20280711
DTSTAMP:20260423T115537
CREATED:20250417T133218Z
LAST-MODIFIED:20250417T133218Z
UID:10000172-1846800000-1846886399@crossgatesgolf.com
SUMMARY:Monday Night League
DESCRIPTION:
URL:https://crossgatesgolf.com/event/monday-night-league/2028-07-10/
END:VEVENT
BEGIN:VEVENT
DTSTART;TZID=America/Toronto:20280713T150000
DTEND;TZID=America/Toronto:20280713T170000
DTSTAMP:20260423T115537
CREATED:20250417T133929Z
LAST-MODIFIED:20250417T133929Z
UID:10001214-1847113200-1847120400@crossgatesgolf.com
SUMMARY:$30 Thursdays
DESCRIPTION:
URL:https://crossgatesgolf.com/event/30-thursdays/2028-07-13/
END:VEVENT
BEGIN:VEVENT
DTSTART;TZID=America/Toronto:20280713T173000
DTEND;TZID=America/Toronto:20280713T173000
DTSTAMP:20260423T115537
CREATED:20250417T133403Z
LAST-MODIFIED:20250417T133859Z
UID:10000953-1847122200-1847122200@crossgatesgolf.com
SUMMARY:Thursday Night League
DESCRIPTION:
URL:https://crossgatesgolf.com/event/thursday-night-league/2028-07-13/
END:VEVENT
BEGIN:VEVENT
DTSTART;VALUE=DATE:20280717
DTEND;VALUE=DATE:20280718
DTSTAMP:20260423T115538
CREATED:20250417T133218Z
LAST-MODIFIED:20250417T133218Z
UID:10000173-1847404800-1847491199@crossgatesgolf.com
SUMMARY:Monday Night League
DESCRIPTION:
URL:https://crossgatesgolf.com/event/monday-night-league/2028-07-17/
END:VEVENT
BEGIN:VEVENT
DTSTART;TZID=America/Toronto:20280720T150000
DTEND;TZID=America/Toronto:20280720T170000
DTSTAMP:20260423T115538
CREATED:20250417T133929Z
LAST-MODIFIED:20250417T133929Z
UID:10001215-1847718000-1847725200@crossgatesgolf.com
SUMMARY:$30 Thursdays
DESCRIPTION:
URL:https://crossgatesgolf.com/event/30-thursdays/2028-07-20/
END:VEVENT
BEGIN:VEVENT
DTSTART;TZID=America/Toronto:20280720T173000
DTEND;TZID=America/Toronto:20280720T173000
DTSTAMP:20260423T115538
CREATED:20250417T133403Z
LAST-MODIFIED:20250417T133859Z
UID:10000954-1847727000-1847727000@crossgatesgolf.com
SUMMARY:Thursday Night League
DESCRIPTION:
URL:https://crossgatesgolf.com/event/thursday-night-league/2028-07-20/
END:VEVENT
BEGIN:VEVENT
DTSTART;VALUE=DATE:20280724
DTEND;VALUE=DATE:20280725
DTSTAMP:20260423T115538
CREATED:20250417T133218Z
LAST-MODIFIED:20250417T133218Z
UID:10000174-1848009600-1848095999@crossgatesgolf.com
SUMMARY:Monday Night League
DESCRIPTION:
URL:https://crossgatesgolf.com/event/monday-night-league/2028-07-24/
END:VEVENT
BEGIN:VEVENT
DTSTART;TZID=America/Toronto:20280727T150000
DTEND;TZID=America/Toronto:20280727T170000
DTSTAMP:20260423T115538
CREATED:20250417T133929Z
LAST-MODIFIED:20250417T133929Z
UID:10001216-1848322800-1848330000@crossgatesgolf.com
SUMMARY:$30 Thursdays
DESCRIPTION:
URL:https://crossgatesgolf.com/event/30-thursdays/2028-07-27/
END:VEVENT
BEGIN:VEVENT
DTSTART;TZID=America/Toronto:20280727T173000
DTEND;TZID=America/Toronto:20280727T173000
DTSTAMP:20260423T115538
CREATED:20250417T133403Z
LAST-MODIFIED:20250417T133859Z
UID:10000955-1848331800-1848331800@crossgatesgolf.com
SUMMARY:Thursday Night League
DESCRIPTION:
URL:https://crossgatesgolf.com/event/thursday-night-league/2028-07-27/
END:VEVENT
BEGIN:VEVENT
DTSTART;VALUE=DATE:20280731
DTEND;VALUE=DATE:20280801
DTSTAMP:20260423T115538
CREATED:20250417T133218Z
LAST-MODIFIED:20250417T133218Z
UID:10000175-1848614400-1848700799@crossgatesgolf.com
SUMMARY:Monday Night League
DESCRIPTION:
URL:https://crossgatesgolf.com/event/monday-night-league/2028-07-31/
END:VEVENT
END:VCALENDAR